BEGIN:VCALENDAR
VERSION:2.0
PRODID:-//ChamberMaster//Event Calendar 2.0//EN
METHOD:PUBLISH
X-PUBLISHED-TTL:P3D
REFRESH-INTERVAL:P3D
CALSCALE:GREGORIAN
BEGIN:VEVENT
DTSTART:20230623T200000Z
DTEND:20230623T210000Z
X-MICROSOFT-CDO-ALLDAYEVENT:FALSE
SUMMARY:Ribbon Cutting: Appalachian Mountain Brewery
DESCRIPTION:Join us in celebrating new member\, Appalachian Mountain Brewery\, with a Ribbon Cutting!\n \n\nAppalachian Mountain Brewery (AMB) was dreamt-up and brought to life by founders Nathan Kelischek and Chris Zieber\; two cousins who both bring unique skills and passions to the table. Their German heritage\, love for our state and passion for the environment and outdoors has helped to form the vision of AMB. With a recent brand update\, a new partnership with MountainTrue\, and the launch of their first bottled cider\, Southern Apple Hard Cider\, AMB continues to grow and produce high-quality\, award-winning liquids. They continue to grow while focusing on our core beliefs of community\, sustainability\, and philanthropy. \n\n\n\nAMB strives to create a sustainable brewing process and have teamed up with several local farms to donate spent grain for the cattle feed. This helps them to divert grain from ending up at landfills and helps local farmers make ends meet saving up to 50+ tons of feed per year!\n\n\nAll 2023 Ribbon Cuttings are Presented by Duke Energy!
X-ALT-DESC;FMTTYPE=text/html:<span style="font-size:12px\;"><span style="font-family:arial\;"><span style="color:black\;">Join us in celebrating new member\, Appalachian Mountain Brewery\, with a Ribbon Cutting!</span></span></span>\n<div>&nbsp\;</div>\n\n<div><span style="font-size:12px\;"><span style="font-family:arial\;"><span style="color: rgb(0\, 0\, 0)\;">Appalachian Mountain Brewery (AMB) was dreamt-up and brought to life by founders Nathan Kelischek and Chris Zieber\; two cousins who both bring unique skills and passions to the table. Their German heritage\, love for our state and passion for the environment and outdoors has helped to form the vision of AMB. Wi</span><span style="color: rgb(0\, 0\, 0)\;">th a recent brand update\, a new partnership with MountainTrue\, and the launch of their first bottled cider\, Southern Apple Hard Cider\, AMB continues to grow and produce high-quality\, award-winning liquids. They continue to grow while focusing on our core beliefs of community\, sustainability\, and philanthropy.</span>&nbsp\;<br />\n<br />\nA<span style="text-align: center\;">MB strives to create a sustainable brewing process and have teamed up with several local farms to donate spent grain for the cattle feed. This helps them&nbsp\;to divert grain from ending up at landfills and helps local farmers make ends meet saving up to 50+ tons of feed per year!</span></span></span></div>\n<br />\n<span style="font-size:12px\;"><span style="font-family:arial\;">All 2023 Ribbon Cuttings are Presented by Duke Energy!</span></span>
LOCATION:46 N Mills River RD Mills River\, NC 28759
UID:e.2975.5772
SEQUENCE:3
DTSTAMP:20260419T221232Z
URL:https://business.hendersoncountychamber.org/events/details/ribbon-cutting-appalachian-mountain-brewery-5772
END:VEVENT

END:VCALENDAR
