BEGIN:VCALENDAR
VERSION:2.0
PRODID:-//ChamberMaster//Event Calendar 2.0//EN
METHOD:PUBLISH
X-PUBLISHED-TTL:P3D
REFRESH-INTERVAL:P3D
CALSCALE:GREGORIAN
BEGIN:VEVENT
DTSTART:20230714T200000Z
DTEND:20230714T210000Z
X-MICROSOFT-CDO-ALLDAYEVENT:FALSE
SUMMARY:Ribbon Cutting: B² Realty
DESCRIPTION:Join us as we celebrate the Ribbon Cutting of B  Realty!\n\n\n\nBryan B  Byrd (pro-nounced Bee-Squared) Realtor with B  Realty. A Twenty-Five year career in Sales\, Marketing\, and Operations for Fortune 50 Companies provides the basis of his World-Class Communication\, Negotiation\, and Process Improvement skills that he brings to every client experience. He has called Western North Carolina home for ten years\, and has spent his entire life visiting and learning about these mountains\, it's culture\, and communities. B  lives in Laurel Park and has two sons enrolled at The University of North Carolina Charlotte. When he is not assisting buyers and sellers of homes and land he serves as Emcee for numerous non-profit\, civic\, and community events.\n\n\n\nThank you to Duke Energy for being the Presenting Sponsor of 2023 Ribbon Cuttings!
X-ALT-DESC;FMTTYPE=text/html:<p><span style="font-size:12px\;"><big>Join us as we celebrate the Ribbon Cutting of <span style="font-family:calibri\,sans-serif\;">B&sup2\; Realty</span>!<br />\n<br />\n<span style="font-family: Roboto\, Helvetica\, Arial\, Lucida\, sans-serif\;">Bryan </span></big></span><span style="font-family: calibri\, sans-serif\; font-size: 14.4px\;">B&sup2\;</span><span style="font-size:12px\;"><big><span style="font-family: Roboto\, Helvetica\, Arial\, Lucida\, sans-serif\;">&nbsp\;Byrd (pro-nounced Bee-Squared) Realtor with </span></big></span><span style="font-family: calibri\, sans-serif\; font-size: 14.4px\;">B&sup2\;</span><span style="font-size:12px\;"><big><span style="font-family: Roboto\, Helvetica\, Arial\, Lucida\, sans-serif\;">&nbsp\;Realty. A Twenty-Five year career in Sales\, Marketing\, and Operations for Fortune 50 Companies provides the basis of his World-Class Communication\, Negotiation\, and Process Improvement skills that he brings to every client experience. He has called Western North Carolina home for ten years\, and has spent his entire life visiting and learning about these mountains\, it&rsquo\;s culture\, and communities. </span></big></span><span style="font-family: calibri\, sans-serif\; font-size: 14.4px\;">B&sup2\;</span><span style="font-size:12px\;"><big><span style="font-family: Roboto\, Helvetica\, Arial\, Lucida\, sans-serif\;">&nbsp\;lives in Laurel Park and has two sons enrolled at The University of North Carolina Charlotte. When he is not assisting buyers and sellers of homes and land he serves as Emcee for numerous non-profit\, civic\, and community events.</span><br />\n<br />\nThank you to Duke Energy for being the Presenting Sponsor of 2023 Ribbon Cuttings!</big></span></p>\n
LOCATION:300 N Main St\, Suite B\, Hendersonville -Inside Buckman Studios-
UID:e.2975.5770
SEQUENCE:3
DTSTAMP:20260419T201224Z
URL:https://business.hendersoncountychamber.org/events/details/ribbon-cutting-b-realty-5770
END:VEVENT

END:VCALENDAR
