BEGIN:VCALENDAR
VERSION:2.0
PRODID:-//ChamberMaster//Event Calendar 2.0//EN
METHOD:PUBLISH
X-PUBLISHED-TTL:P3D
REFRESH-INTERVAL:P3D
CALSCALE:GREGORIAN
BEGIN:VEVENT
DTSTART:20230921T200000Z
DTEND:20230921T210000Z
X-MICROSOFT-CDO-ALLDAYEVENT:FALSE
SUMMARY:Ribbon Cutting: Cano Wealth Strategies\, LLC
DESCRIPTION:Join us in celebrating fellow member\, Cano Wealth Strategies\, with a Ribbon Cutting!\n\n\n\nCano Wealth Strategies\, LLC\, is an independent wealth management firm whose purpose is to help our select group of individuals\, families\, and businesses protect and simplify the management surrounding their most important assets. \n\n\n\nAll 2023 Ribbon Cuttings are Presented by Duke Energy!
X-ALT-DESC;FMTTYPE=text/html:<span style="color:black\;">Join us in celebrating fellow member\, Cano Wealth Strategies\, with a Ribbon Cutting!<br />\n<br />\nCano Wealth Strategies\, LLC\, is an independent wealth management firm whose purpose is to help our select group of individuals\, families\, and businesses protect and simplify the management surrounding their most important assets.&nbsp\;</span><br />\n<br />\nAll 2023 Ribbon Cuttings are Presented by Duke Energy!
LOCATION:109 South Main St\, Hendersonville
UID:e.2975.5993
SEQUENCE:3
DTSTAMP:20260419T182144Z
URL:https://business.hendersoncountychamber.org/events/details/ribbon-cutting-cano-wealth-strategies-llc-5993
END:VEVENT

END:VCALENDAR
