BEGIN:VCALENDAR
VERSION:2.0
PRODID:-//ChamberMaster//Event Calendar 2.0//EN
METHOD:PUBLISH
X-PUBLISHED-TTL:P3D
REFRESH-INTERVAL:P3D
CALSCALE:GREGORIAN
BEGIN:VEVENT
DTSTART:20230711T150000Z
DTEND:20230711T160000Z
X-MICROSOFT-CDO-ALLDAYEVENT:FALSE
SUMMARY:Ribbon Cutting: Cappy's Holistic Home Care\, LLC
DESCRIPTION:Join us as we celebrate the Ribbon Cutting of Cappy's Holistic Home Care\, LLC!\n\n\n\nCappy's Holistic Home Care is a small\, family-owned agency in WNC that has been providing long-term care and rehabilitation services to patients in our community. The founders have personal experience with placing their own loved ones in care facilities when they were no longer able to care for themselves. As a result\, they decided to start their own agency to offer care services in the comfort of patients' own homes.\n\n\n\nThank you to Duke Energy for being the Presenting Sponsor of 2023 Ribbon Cuttings!
X-ALT-DESC;FMTTYPE=text/html:<p><span style="font-size:12px\;"><big>Join us as we celebrate the Ribbon Cutting of Cappy&#39\;s Holistic Home Care\, LLC!</big></span><br />\n<br />\n<span style="font-size:12px\;"><big>Cappy&#39\;s Holistic Home Care is a small\, family-owned agency&nbsp\;in WNC that has been providing long-term care and rehabilitation services to patients in our community. The founders have personal experience with placing their own loved ones in care facilities when they were no longer able to care for themselves. As a result\, they decided to start their own agency to offer care services in the comfort of patients&#39\; own homes.<br />\n<br />\nThank you to Duke Energy for being the Presenting Sponsor of 2023 Ribbon Cuttings!</big></span></p>\n
LOCATION:558 Fleming St\, Hendersonville
UID:e.2975.5799
SEQUENCE:3
DTSTAMP:20260419T221312Z
URL:https://business.hendersoncountychamber.org/events/details/ribbon-cutting-cappy-s-holistic-home-care-llc-5799
END:VEVENT

END:VCALENDAR
