BEGIN:VCALENDAR
VERSION:2.0
PRODID:-//ChamberMaster//Event Calendar 2.0//EN
METHOD:PUBLISH
X-PUBLISHED-TTL:P3D
REFRESH-INTERVAL:P3D
CALSCALE:GREGORIAN
BEGIN:VEVENT
DTSTART:20221115T203000Z
DTEND:20221115T223000Z
X-MICROSOFT-CDO-ALLDAYEVENT:FALSE
SUMMARY:Ribbon Cutting: Children & Family Resource Center's GLO Mobile
DESCRIPTION:Join us as we celebrate the launch of Children & Family Resource Center's new GLO Mobile!\n\n\n\nStarting at 3:30\, get a chance to tour the GLO Mobile\, experience a few 'adult-sized" preschool activities and share a snack and beverage.\n\n\n\n-The Ribbon Cutting Ceremony will be at 3:45 PM. -\n\n\n\nGLO Mobile will be a vehicle for outreach in our community to engage families and provide access to the support they need for their children to begin kindergarten ready to learn. For more information\, visit www.childrenandfamily.org/glomobile.
X-ALT-DESC;FMTTYPE=text/html:<p style="color: rgb(62\, 60\, 57)\; font-family: &quot\;Franklin Gothic Book&quot\;\, Arial\, Helvetica\, sans-serif\;">Join us as we celebrate the launch of Children &amp\; Family Resource Center&#39\;s new GLO Mobile!<br />\n<br />\nStarting at 3:30\, get a chance to tour the GLO Mobile\, experience a few &#39\;adult-sized&quot\; preschool activities and share a snack and beverage.<br />\n<br />\n-<strong>The Ribbon Cutting Ceremony will be at 3:45 PM. -</strong><br />\n<br />\nGLO Mobile will be a vehicle for outreach in our community to engage families and provide access to the support they need for their children to begin kindergarten ready to learn. For more information\, visit www.childrenandfamily.org/glomobile.&nbsp\;</p>\n
LOCATION:851 Case St\, Hendersonville\, NC
UID:e.2975.4660
SEQUENCE:3
DTSTAMP:20260422T191300Z
URL:https://business.hendersoncountychamber.org/events/details/ribbon-cutting-children-family-resource-center-s-glo-mobile-4660
END:VEVENT

END:VCALENDAR
