BEGIN:VCALENDAR
VERSION:2.0
PRODID:-//ChamberMaster//Event Calendar 2.0//EN
METHOD:PUBLISH
X-PUBLISHED-TTL:P3D
REFRESH-INTERVAL:P3D
CALSCALE:GREGORIAN
BEGIN:VEVENT
DTSTART:20230727T193000Z
DTEND:20230727T203000Z
X-MICROSOFT-CDO-ALLDAYEVENT:FALSE
SUMMARY:Ribbon Cutting: Cold Spring Basecamp
DESCRIPTION:Join us in celebrating new member\, Cold Spring Basecamp\, with a Ribbon Cutting!\n\n\n\nCold Spring Basecamp\, located in the mountains of WNC\, is a great space to launch your adventure! Whether you are looking for a place for camping\, glamping\, hiking\, biking\, waterfalls or more\, there is something out there on their 38-acre property to meet your needs! Drinks and appetizers will be served for this special occasion! Come out and tour the cabins\, and bring your bikes and hit the trails\, or hike up to the waterfalls after the ribbon cutting ceremony and enjoy the afternoon!\n\n\n\n\n\nThank you to Duke Energy for being the Presenting Sponsor of 2023 Ribbon Cuttings!
X-ALT-DESC;FMTTYPE=text/html:<h3><span style="font-size:12px\;">Join us in celebrating new member\, Cold Spring Basecamp\, with a Ribbon Cutting!</span><br />\n<br />\n<span style="color:#333333\;"><span style="font-family:arial\,sans-serif\;"><span style="font-size:9.0pt\;">Cold Spring Basecamp\, located in the mountains of WNC\, is a great space to launch your adventure!&nbsp\;Whether you are looking for a place for camping\, glamping\, hiking\, biking\, waterfalls or more\, there is something out there on their 38-acre&nbsp\;property to meet your needs! Drinks and appetizers will be served for this special occasion! Come out and tour the cabins\, and bring your bikes and hit the trails\, or hike up to the waterfalls&nbsp\;after the ribbon cutting ceremony and enjoy the afternoon!</span></span></span><br />\n<br />\n<br />\n<span style="font-family:arial\;"><span style="font-size:12px\;">Thank you to&nbsp\;</span><a href="https://www.duke-energy.com/" style="font-size: 12px\; font-family: Lato\, sans-serif\; box-sizing: inherit\; color: rgb(36\, 73\, 158)\; line-height: inherit\; text-decoration-line: none\;"><span style="font-size:12px\;">Duke Energ</span>y</a><span style="font-size: 12px\;">&nbsp\;for being the Presenting Sponsor of 2023 Ribbon Cuttings!</span></span></h3>\n
LOCATION:125 Cold Spring Base Rd Zirconia\, NC 28790
UID:e.2975.5794
SEQUENCE:3
DTSTAMP:20260419T201154Z
URL:https://business.hendersoncountychamber.org/events/details/ribbon-cutting-cold-spring-basecamp-5794
END:VEVENT

END:VCALENDAR
