BEGIN:VCALENDAR
VERSION:2.0
PRODID:-//ChamberMaster//Event Calendar 2.0//EN
METHOD:PUBLISH
X-PUBLISHED-TTL:P3D
REFRESH-INTERVAL:P3D
CALSCALE:GREGORIAN
BEGIN:VEVENT
DTSTART:20260501T130000Z
DTEND:20260501T140000Z
X-MICROSOFT-CDO-ALLDAYEVENT:FALSE
SUMMARY:Ribbon Cutting: Community Foundation of Henderson County
DESCRIPTION:Join us for a fun and casual Ribbon Cutting at Community Foundation of Henderson County!\n\n\n\nA big thanks to our Ribbon Cutting Sponsors\, Duke Energy.
X-ALT-DESC;FMTTYPE=text/html:<div><span style="font-size:14px\;">Join us for a&nbsp\;<span style="box-sizing: border-box\; padding: 0px\; margin: 0px\; font-weight: 600\;">fun and casual</span>&nbsp\;Ribbon Cutting at Community Foundation of Henderson County!</span><br />\n<br />\n<span style="font-size:14px\;"><span style="color: rgb(77\, 77\, 77)\; text-align: center\;">A big thanks to our Ribbon Cutting Sponsors\, Duke Energy.</span></span></div>\n
LOCATION:Community Foundation of Henderson County
UID:e.2975.10359
SEQUENCE:3
DTSTAMP:20260420T224058Z
URL:https://business.hendersoncountychamber.org/events/details/ribbon-cutting-community-foundation-of-henderson-county-10359
END:VEVENT

END:VCALENDAR
