BEGIN:VCALENDAR
VERSION:2.0
PRODID:-//ChamberMaster//Event Calendar 2.0//EN
METHOD:PUBLISH
X-PUBLISHED-TTL:P3D
REFRESH-INTERVAL:P3D
CALSCALE:GREGORIAN
BEGIN:VEVENT
DTSTART:20230413T190000Z
DTEND:20230413T200000Z
X-MICROSOFT-CDO-ALLDAYEVENT:FALSE
SUMMARY:Ribbon Cutting: First Contact Addiction Ministries
DESCRIPTION:You are invited to join us for the long awaited opening of First Contact Ministries new recovery center: Living Stones! With over 10 years of service to this community\, First Contact is taking their addiction recovery services to the next level and opening a residential recovery center\, right here in Henderson County. Take this opportunity to tour the facility\, meet with the staff\, and enjoy a hibachi snack and a show by Private Hibachi Chef Blue!\n \n\nPlease let us know your plans to attend by emailing megan.dorn@firstcontactwnc.org.\n\n\n\nThank you to Duke Energy for being the Presenting Sponsor of 2023 Ribbon Cuttings!
X-ALT-DESC;FMTTYPE=text/html:<p align="center" style="margin:0in\;margin-bottom:.0001pt\;text-align:center"><span style="font-size:12px\;"><span style="font-family:arial\;">You are invited to join us for the long awaited opening of First Contact Ministries new recovery center: Living Stones! With over 10 years of service to this community\, First Contact is taking their addiction recovery services to the next level and opening a residential recovery center\, right here in Henderson County. Take this opportunity to tour the facility\, meet with the staff\, and enjoy a hibachi snack and a show by Private Hibachi Chef Blue!</span></span></p>\n&nbsp\;\n\n<p align="center" style="margin:0in\;margin-bottom:.0001pt\;text-align:center"><span style="font-size:12px\;"><span style="font-family:arial\;">Please let us know your plans to attend by emailing <a href="mailto:megan.dorn@firstcontactwnc.org">megan.dorn@firstcontactwnc.org</a>.<br />\n<br />\nThank you to Duke Energy for being the Presenting Sponsor of 2023 Ribbon Cuttings!</span></span></p>\n
LOCATION:4353 Fork Creek Rd Saluda\, NC
UID:e.2975.5309
SEQUENCE:3
DTSTAMP:20260422T111421Z
URL:https://business.hendersoncountychamber.org/events/details/ribbon-cutting-first-contact-addiction-ministries-5309
END:VEVENT

END:VCALENDAR
