BEGIN:VCALENDAR
VERSION:2.0
PRODID:-//ChamberMaster//Event Calendar 2.0//EN
METHOD:PUBLISH
X-PUBLISHED-TTL:P3D
REFRESH-INTERVAL:P3D
CALSCALE:GREGORIAN
BEGIN:VEVENT
DTSTART:20230518T200000Z
DTEND:20230518T210000Z
X-MICROSOFT-CDO-ALLDAYEVENT:FALSE
SUMMARY:Ribbon Cutting: Gleman and Company
DESCRIPTION:Join us in celebrating new member\, Gleman and Company\, with a Ribbon Cutting!\n\n\n\n"We are proud to announce the recent opening of our veteran owned\, family operated\, woodworks and retail businesses at our new location in WNC. We specialize in woodworks\, handcrafted furniture\, art\, and home d cor. We welcome any custom jobs that come our way for Residential and Commercial projects.\n\n\n\nOn top of that\, we build beehives and pollinator habitats\, all under one roof!\n\n\n\nOur motto at Gleman and Company is\, 'If you can dream it\,... We can build it'.\n\n\n\nThis Event begins at 4:00 PM and starts off with the Ribbon Cutting\, afterwards we will give a grand tour around our facility and showrooms. We will have food\, drinks and giveaways to follow. You are welcome to bring your friends and family members to join our event! Don't miss this Ribbon Cutting! We look forward to seeing you there!"\n\n\n\nAll 2023 Ribbon Cuttings are Presented by Duke Energy!
X-ALT-DESC;FMTTYPE=text/html:<span style="color:black\;">Join us in celebrating new member\, Gleman and Company\, with a Ribbon Cutting!</span><br />\n<br />\n&quot\;We are proud to announce the recent opening of our veteran owned\, family operated\, woodworks and retail businesses at our new location in WNC. We specialize in woodworks\, handcrafted furniture\, art\, and home d&eacute\;cor. We welcome any custom jobs that come our way for Residential and Commercial projects.<br />\n<br />\nOn top of that\, we build beehives and pollinator habitats\, all under one roof!<br />\n<br />\nOur motto at Gleman and Company is\, &#39\;If you can dream it\,... We can build it&#39\;.<br />\n<br />\nThis Event begins at 4:00 PM and starts off with the Ribbon Cutting\, afterwards we will give a grand tour around our facility and showrooms. We will have food\, drinks and giveaways to follow. You are welcome to bring your friends and family members to join our event! Don&rsquo\;t miss this Ribbon Cutting! We look forward to seeing you there!&quot\;<br />\n<br />\nAll 2023 Ribbon Cuttings are Presented by Duke Energy!
LOCATION:5430 Asheville Hwy\, Hendersonville
UID:e.2975.5376
SEQUENCE:3
DTSTAMP:20260422T091256Z
URL:https://business.hendersoncountychamber.org/events/details/ribbon-cutting-gleman-and-company-5376
END:VEVENT

END:VCALENDAR
