BEGIN:VCALENDAR
VERSION:2.0
PRODID:-//ChamberMaster//Event Calendar 2.0//EN
METHOD:PUBLISH
X-PUBLISHED-TTL:P3D
REFRESH-INTERVAL:P3D
CALSCALE:GREGORIAN
BEGIN:VEVENT
DTSTART:20230321T190000Z
DTEND:20230321T200000Z
X-MICROSOFT-CDO-ALLDAYEVENT:FALSE
SUMMARY:Ribbon Cutting & Ground Breaking: Bullington Gardens
DESCRIPTION:Please join us for the Ribbon Cutting and Ground Breaking Ceremony of Bullington Gardens.\n\n\n\nBullington Gardens is a nonprofit botanical garden in Hendersonville\, NC\, their mission is to connect children and adults with natural world through science based horticultural education\; to demonstrate the beauty of plants\, and to enhance life skills for those with challenges through horticultural therapy.\n\n\n\nThis Ribbon Cutting Ceremony is to thank donors who gave funding for the new restrooms\, Tourism Development Authority\, Mary Louise Corn\, Ray & Judith McKenzie and Wheels in the Woods Foundation.\n\n\n\nThis Ground Breaking Ceremony is to thank donors who gave funding for the new parking lot\, Perry Rudnick Foundation/Community Foundation of Henderson County.
X-ALT-DESC;FMTTYPE=text/html:<font color="#1d2129" face="Helvetica\, Arial\, sans-serif"><span style="font-size: 14px\; white-space: pre-wrap\;">Please join us for the Ribbon Cutting and Ground Breaking Ceremony of Bullington Gardens.<br />\n<br />\nBullington Gardens is a nonprofit botanical garden in Hendersonville\, NC\, their mission is to connect children and adults with natural world through science based horticultural education\; to demonstrate the beauty of plants\, and to enhance life skills for those with challenges through horticultural therapy.<br />\n<br />\nThis Ribbon Cutting Ceremony is to thank donors who gave funding for the new restrooms\, Tourism Development Authority\, Mary Louise Corn\, Ray &amp\; Judith McKenzie and Wheels in the Woods Foundation.</span></font><br />\n<br style="color: rgb(29\, 33\, 41)\; font-family: Helvetica\, Arial\, sans-serif\; font-size: 14px\; white-space: pre-wrap\;" />\n<span style="color: rgb(29\, 33\, 41)\; font-family: Helvetica\, Arial\, sans-serif\; font-size: 14px\; white-space: pre-wrap\;">This Ground Breaking Ceremony is to thank donors who gave funding for the new parking lot\, Perry Rudnick Foundation/Community Foundation of Henderson County. </span>
LOCATION:95 Upper Red Oak Trail\, Hendersonville
UID:e.2975.5351
SEQUENCE:3
DTSTAMP:20260422T111821Z
URL:https://business.hendersoncountychamber.org/events/details/ribbon-cutting-ground-breaking-bullington-gardens-5351
END:VEVENT

END:VCALENDAR
