BEGIN:VCALENDAR
VERSION:2.0
PRODID:-//ChamberMaster//Event Calendar 2.0//EN
METHOD:PUBLISH
X-PUBLISHED-TTL:P3D
REFRESH-INTERVAL:P3D
CALSCALE:GREGORIAN
BEGIN:VEVENT
DTSTART:20221020T200000Z
DTEND:20221020T210000Z
X-MICROSOFT-CDO-ALLDAYEVENT:FALSE
SUMMARY:Ribbon Cutting: Guardian Property Services
DESCRIPTION:Join us in celebration of the Grand Opening of Guardian Property Services!\n\n\n\nGuardian Property Services\, a local homeowners association management company\, invites you to their official Ribbon Cutting and open house on Thursday\, October 20th at 4:00 PM. Guardian moved into their new office space this past July. Owners Angel and Carrie Ann have been active members of the Henderson County community for over three years and previously worked in the WNC community in the non-profit sector and property management. The Guardian team has a background in board management\, communications\, conflict resolution\, strategic planning\, fiscal management\, and team building\, bringing a unique perspective and experience to the world of HOA management. Our team's three core values are integrity\, continuous improvement\, and kindness. Come join the team to celebrate their grand opening with a ribbon cutting and refreshments at 4:00 PM on October 20th at their new office location at 514 5th Ave West\, Hendersonville\, NC.
X-ALT-DESC;FMTTYPE=text/html:<p style="margin: 0px 0px 6px\; font-family: Helvetica\, Arial\, sans-serif\; color: rgb(29\, 33\, 41)\; font-size: 14px\;">Join us in celebration of the Grand Opening of&nbsp\;Guardian Property Services!<br />\n<br />\nGuardian Property Services\, a local homeowners association management company\, invites you to their official Ribbon Cutting and open house on Thursday\, October 20<sup>th</sup> at 4:00 PM. Guardian moved into their new office space this past July. Owners Angel and Carrie Ann have been active members of the Henderson County community for over three years and previously worked in the WNC community in the non-profit sector and property management. The Guardian team has a background in board management\, communications\, conflict resolution\, strategic planning\, fiscal management\, and team building\, bringing a unique perspective and experience to the world of HOA management. Our team&rsquo\;s three core values are integrity\, continuous improvement\, and kindness. Come join the team to celebrate their grand opening with a ribbon cutting and refreshments at 4:00 PM on October 20<sup>th</sup> at their new office location at 514 5<sup>th</sup> Ave West\, Hendersonville\, NC.<br />\n&nbsp\;</p>\n
LOCATION:Guardian Property Services | 514 W 5th Ave\, Hendersonville
UID:e.2975.4570
SEQUENCE:3
DTSTAMP:20260422T202848Z
URL:https://business.hendersoncountychamber.org/events/details/ribbon-cutting-guardian-property-services-4570
END:VEVENT

END:VCALENDAR
