BEGIN:VCALENDAR
VERSION:2.0
PRODID:-//ChamberMaster//Event Calendar 2.0//EN
METHOD:PUBLISH
X-PUBLISHED-TTL:P3D
REFRESH-INTERVAL:P3D
CALSCALE:GREGORIAN
BEGIN:VEVENT
DTSTART:20231002T150000Z
DTEND:20231002T180000Z
X-MICROSOFT-CDO-ALLDAYEVENT:FALSE
SUMMARY:Ribbon Cutting: Heart Strings Intimate Apparel
DESCRIPTION:Join us in celebrating the grand re-opening of Heart Strings Intimate Apparel at their new location with a Chamber Ribbon Cutting! \n\n\n\nOpen House will be from 11:00 AM - 2:00 PM. The actual Ribbon Cutting Ceremony will be at 12:00 PM. \n\n\n\nAll 2023 Ribbon Cuttings are Sponsored by Duke Energy!
X-ALT-DESC;FMTTYPE=text/html:Join us in celebrating the grand re-opening of Heart Strings Intimate Apparel at their new location with a Chamber Ribbon Cutting!&nbsp\;<br />\n<br />\nOpen House will be from 11:00 AM - 2:00 PM. The actual Ribbon Cutting Ceremony will be at 12:00 PM.&nbsp\;<br />\n<br />\nAll 2023 Ribbon Cuttings are Sponsored by Duke Energy!
LOCATION:1735-A Brevard Rd\, Laurel Park Shopping Ctr\, Hendersonville
UID:e.2975.5545
SEQUENCE:3
DTSTAMP:20260419T144103Z
URL:https://business.hendersoncountychamber.org/events/details/ribbon-cutting-heart-strings-intimate-apparel-5545
END:VEVENT

END:VCALENDAR
