BEGIN:VCALENDAR
VERSION:2.0
PRODID:-//ChamberMaster//Event Calendar 2.0//EN
METHOD:PUBLISH
X-PUBLISHED-TTL:P3D
REFRESH-INTERVAL:P3D
CALSCALE:GREGORIAN
BEGIN:VEVENT
DTSTART:20230406T200000Z
DTEND:20230406T220000Z
X-MICROSOFT-CDO-ALLDAYEVENT:FALSE
SUMMARY:Ribbon Cutting: Hoopers Creek Wine Market
DESCRIPTION:Join us in celebrating Hoppers Creek Wine Market with a Ribbon Cutting!\n\n\n\nHoopers Creek Wine Market was created with the goal to bring thoughtfully curated and environmentally low-impact wines to Fletcher.  Featuring mostly natural and small family farmed wines\, they pledge to bring forth wines that they have tasted themselves and believe in.  Aside from wine\, they are committed to bringing locally made goods to their neighborhood shop such as local cider\, mead\, beer\, pre-packaged artisan goods\, and artwork.  Their passion is centered around supporting and uplifting their magical mountain community.\n\n \n\nEvent starts at 4pm\, Ribbon Cutting and giveaways at 5pm.  They will have one of their distributors\, Kellogg Selections\, presenting a complimentary wine tasting with some small bite pairings.\n\n\n\nThank you to Duke Energy for being the Presenting Sponsor of 2023 Ribbon Cuttings!
X-ALT-DESC;FMTTYPE=text/html:<span style="color:black\;">Join us in celebrating Hoppers Creek Wine Market with a Ribbon Cutting!<br />\n<br />\nHoopers Creek Wine Market was created with the goal to bring thoughtfully curated and environmentally low-impact wines to Fletcher.&nbsp\; Featuring mostly natural and small family farmed wines\, they pledge to bring forth wines that they have tasted themselves and believe in.&nbsp\; Aside from wine\, they are committed to bringing locally made goods to their neighborhood shop such as local cider\, mead\, beer\, pre-packaged artisan goods\, and artwork.&nbsp\; Their passion is centered around supporting and uplifting their magical mountain community.</span><br />\n&nbsp\;<br />\n<span style="color:black\;">Event starts at 4pm\, Ribbon Cutting and giveaways at 5pm.&nbsp\; They will have one of their distributors\, Kellogg Selections\, presenting a complimentary wine tasting with some small bite pairings.</span><br />\n<br />\nThank you to Duke Energy for being the Presenting Sponsor of 2023 Ribbon Cuttings!<br />\n&nbsp\;
LOCATION:142 Hoopers Creek Rd\, Fletcher
UID:e.2975.5369
SEQUENCE:3
DTSTAMP:20260422T092633Z
URL:https://business.hendersoncountychamber.org/events/details/ribbon-cutting-hoopers-creek-wine-market-5369
END:VEVENT

END:VCALENDAR
