BEGIN:VCALENDAR
VERSION:2.0
PRODID:-//ChamberMaster//Event Calendar 2.0//EN
METHOD:PUBLISH
X-PUBLISHED-TTL:P3D
REFRESH-INTERVAL:P3D
CALSCALE:GREGORIAN
BEGIN:VEVENT
DTSTART:20230511T170000Z
DTEND:20230511T180000Z
X-MICROSOFT-CDO-ALLDAYEVENT:FALSE
SUMMARY:Ribbon Cutting: Jaime Seymour-Newton Photography
DESCRIPTION:Join us in celebrating new member\, Jaime Seymour-Newton Photography with a Ribbon Cutting!\n\n\n\nAs an award-winning photographer\, Jaime Seymour-Newton specializes in Black & White Family and Pet Portraits based in Flat Rock\, NC. \n\n\n\nThank you to Duke Energy for being the Presenting Sponsor of 2023 Ribbon Cuttings!
X-ALT-DESC;FMTTYPE=text/html:<span style="color:black\;">Join us in celebrating new member\, Jaime Seymour-Newton Photography with a Ribbon Cutting!</span><br />\n<br />\nAs an award-winning photographer\, Jaime Seymour-Newton specializes in Black &amp\; White Family and Pet Portraits based in Flat Rock\, NC.&nbsp\;<br />\n<br />\nThank you to Duke Energy for being the Presenting Sponsor of 2023 Ribbon Cuttings!<br />\n&nbsp\;
LOCATION:2689 Greenville Hwy\, Flat Rock
UID:e.2975.5375
SEQUENCE:3
DTSTAMP:20260422T094104Z
URL:https://business.hendersoncountychamber.org/events/details/ribbon-cutting-jaime-seymour-newton-photography-5375
END:VEVENT

END:VCALENDAR
