BEGIN:VCALENDAR
VERSION:2.0
PRODID:-//ChamberMaster//Event Calendar 2.0//EN
METHOD:PUBLISH
X-PUBLISHED-TTL:P3D
REFRESH-INTERVAL:P3D
CALSCALE:GREGORIAN
BEGIN:VEVENT
DTSTART:20250501T203000Z
DTEND:20250501T223000Z
X-MICROSOFT-CDO-ALLDAYEVENT:FALSE
SUMMARY:Ribbon Cutting: King & Allen Building 100 Years
DESCRIPTION:Join us for the Ribbon Cutting of King & Allen!\n\n\n\nKing & Allen opened just before the pandemic\, and never had an official ribbon cutting. This event will serve as an 'official' introduction to the community\, introduce their tenants\, and celebrate the 100 year anniversary of the building! \n\n\n\nThanks to Duke Energy for being our 2025 Ribbon Cutting Sponsors!
X-ALT-DESC;FMTTYPE=text/html:<span style="font-size:14px\;"><span style="font-family:arial\;">Join us for the Ribbon Cutting of King &amp\; Allen!<br />\n<br />\n<span style="background-image:initial\;background-position:initial\;background-size:initial\;background-repeat:initial\;background-attachment:initial\;background-origin:initial\;background-clip:initial\;"><span style="color:black\;">King &amp\; Allen opened just before the pandemic\, and never had an official ribbon cutting. This event will serve as an &#39\;official&#39\; introduction to the community\, introduce their tenants\, and celebrate the 100 year anniversary of the building!&nbsp\;</span></span><br />\n<br />\nThanks to Duke Energy for being our 2025 Ribbon Cutting Sponsors!</span></span>
LOCATION:King & Allen | 101 E Allen St\, Hendersonville
UID:e.2975.8629
SEQUENCE:3
DTSTAMP:20260422T085610Z
URL:https://business.hendersoncountychamber.org/events/details/ribbon-cutting-king-allen-building-100-years-8629
END:VEVENT

END:VCALENDAR
