BEGIN:VCALENDAR
VERSION:2.0
PRODID:-//ChamberMaster//Event Calendar 2.0//EN
METHOD:PUBLISH
X-PUBLISHED-TTL:P3D
REFRESH-INTERVAL:P3D
CALSCALE:GREGORIAN
BEGIN:VEVENT
DTSTART:20230421T190000Z
DTEND:20230421T210000Z
X-MICROSOFT-CDO-ALLDAYEVENT:FALSE
SUMMARY:Ribbon Cutting: Looking Glass Realty
DESCRIPTION:Join us as we celebrate the Ribbon Cutting of Looking Glass Realty!\n\n\n\nLooking Glass Realty's mission is to lead the industry in cutting edge marketing\, professionalism\, and most importantly results. They strive to set new standards in marketing that are unique and incomparable in their reach and effectiveness. The firm's core belief in quality over quantity sets the tone for their professionalism. Looking Glass Realty is comprised of only full time brokers who dedicate their working time to Real Estate. Dedicated and experienced Realtors\, the highest industry standards in marketing\, and their professionalism are what creates the results their clients expect and deserve.\n\n\n\nThank you to Duke Energy for being the Presenting Sponsor of 2023 Ribbon Cuttings!
X-ALT-DESC;FMTTYPE=text/html:<span style="font-size:11px\;"><span style="font-family:arial\;">Join us as we celebrate the Ribbon Cutting of Looking Glass Realty!<br />\n<br />\nLooking Glass Realty&#39\;s mission is to lead the industry in cutting edge marketing\, professionalism\, and most importantly results. They strive to set new standards in marketing that are unique and incomparable in their reach and effectiveness. The firm&#39\;s core belief in quality over quantity sets the tone for their professionalism. Looking Glass Realty is comprised of only full time brokers who dedicate their working time to Real Estate. Dedicated and experienced Realtors\, the highest industry standards in marketing\, and their professionalism are what creates the results their clients expect and deserve.<br />\n<br />\nThank you to Duke Energy for being the Presenting Sponsor of 2023 Ribbon Cuttings!</span></span><br />\n&nbsp\;
LOCATION:Looking Glass Realty | 104 N Main St\, Hendersonville
UID:e.2975.5354
SEQUENCE:3
DTSTAMP:20260422T110226Z
URL:https://business.hendersoncountychamber.org/events/details/ribbon-cutting-looking-glass-realty-5354
END:VEVENT

END:VCALENDAR
