BEGIN:VCALENDAR
VERSION:2.0
PRODID:-//ChamberMaster//Event Calendar 2.0//EN
METHOD:PUBLISH
X-PUBLISHED-TTL:P3D
REFRESH-INTERVAL:P3D
CALSCALE:GREGORIAN
BEGIN:VEVENT
DTSTART:20230418T190000Z
DTEND:20230418T200000Z
X-MICROSOFT-CDO-ALLDAYEVENT:FALSE
SUMMARY:Ribbon Cutting: Mini Batch Bakery
DESCRIPTION:Join us as we celebrate Mini Batch Bakery with a Ribbon Cutting!\n\n\n\nFounded by local farm owners of Raspberry Fields\, Mini Batch Bakery has happily settled in on 7th Avenue in the Historic District of Hendersonville. At this location\, baked goods from cookies\, breaks\, mini pies\, and muffins to preserves and vinegars\, can be purchased. \n\n\n\nThank you to Duke Energy for being the Presenting Sponsor of 2023 Ribbon Cuttings!
X-ALT-DESC;FMTTYPE=text/html:Join us as we celebrate Mini Batch Bakery with a Ribbon Cutting!<br />\n<br />\nFounded by local farm owners of Raspberry Fields\, Mini Batch Bakery has happily settled in on 7th Avenue in the Historic District of Hendersonville. At this location\, baked goods from cookies\, breaks\, mini pies\, and muffins to preserves and vinegars\, can be purchased.&nbsp\;<br />\n<br />\nThank you to Duke Energy for being the Presenting Sponsor of 2023 Ribbon Cuttings!
LOCATION:Mini Batch Bakery | 404 7th Ave East\, Hendersonville
UID:e.2975.5357
SEQUENCE:3
DTSTAMP:20260422T104732Z
URL:https://business.hendersoncountychamber.org/events/details/ribbon-cutting-mini-batch-bakery-5357
END:VEVENT

END:VCALENDAR
