BEGIN:VCALENDAR
VERSION:2.0
PRODID:-//ChamberMaster//Event Calendar 2.0//EN
METHOD:PUBLISH
X-PUBLISHED-TTL:P3D
REFRESH-INTERVAL:P3D
CALSCALE:GREGORIAN
BEGIN:VEVENT
DTSTART:20231019T190000Z
DTEND:20231019T200000Z
X-MICROSOFT-CDO-ALLDAYEVENT:FALSE
SUMMARY:Ribbon Cutting: Mudpuppies Sports and Sushi Bar
DESCRIPTION:Join us as we celebrate the Ribbon Cutting of Mudpuppies Sports and Sushi Bar!\n\n\n\nSports and Sushi. Music and Trivia.  Friends and rivals. At MUDPUPPIES\, we bring so many different things to the table. But it's the way we do it that makes them all just a little better. Great service\, friendly fans\, and a welcoming atmosphere turn games into get-togethers and competitors into comrades. \n\n\n\nThank you to Duke Energy for being the Presenting Sponsor of 2023 Ribbon Cuttings!
X-ALT-DESC;FMTTYPE=text/html:<p><span style="font-family:arial\;"><span style="font-size:12px\;">Join us as we celebrate the Ribbon Cutting of&nbsp\;Mudpuppies Sports and Sushi Bar!<br />\n<br />\nSports and Sushi. Music&nbsp\;and Trivia.&nbsp\;&nbsp\;Friends and rivals. At&nbsp\;<strong>MUDPUPPIES</strong>\, we bring so many different things to the table. But it&rsquo\;s the way we do it that makes them all just a little better. Great service\, friendly fans\, and a welcoming atmosphere turn games into get-togethers and competitors into comrades.&nbsp\;<br />\n<br />\n<big>Thank you to Duke Energy for being the Presenting Sponsor of 2023 Ribbon Cuttings!</big></span></span></p>\n
LOCATION:Mudpuppies Sports and Sushi Bar | 5 Andrew Way\, Arden
UID:e.2975.6171
SEQUENCE:3
DTSTAMP:20260419T145136Z
URL:https://business.hendersoncountychamber.org/events/details/ribbon-cutting-mudpuppies-sports-and-sushi-bar-6171
END:VEVENT

END:VCALENDAR
