BEGIN:VCALENDAR
VERSION:2.0
PRODID:-//ChamberMaster//Event Calendar 2.0//EN
METHOD:PUBLISH
X-PUBLISHED-TTL:P3D
REFRESH-INTERVAL:P3D
CALSCALE:GREGORIAN
BEGIN:VEVENT
DTSTART:20230629T163000Z
DTEND:20230629T173000Z
X-MICROSOFT-CDO-ALLDAYEVENT:FALSE
SUMMARY:Ribbon Cutting: Off the Wall Books N Cafe
DESCRIPTION:Join us as we celebrate new member\, Off the Wall Book N Cafe\, with a Ribbon Cutting!\n\n\n\nYou can find new and quality used books for all ages\, both fiction and non-fiction at Off the Wall Books N Cafe. While there\, guest can also help themselves to the self-serve hot beverages\, cold drinks\, snacks and fresh local pastries from Mini Batch Bakery. \n\n\n\n2023 Ribbon Cuttings are Presented by Duke Energy.
X-ALT-DESC;FMTTYPE=text/html:Join us as we celebrate new member\, Off the Wall Book N Cafe\, with a Ribbon Cutting!<br />\n<br />\nYou can find new and quality used books for all ages\, both fiction and non-fiction at Off the Wall Books N Cafe. While there\, guest can also help themselves to the self-serve hot beverages\, cold drinks\, snacks and fresh local pastries from Mini Batch Bakery.&nbsp\;<br />\n<br />\n2023 Ribbon Cuttings are Presented by Duke Energy.
LOCATION:Off the Wall Books N Cafe 2000 Spartanburg Hwy\, Suite 400 Hendersonville\, NC
UID:e.2975.5795
SEQUENCE:3
DTSTAMP:20260419T234744Z
URL:https://business.hendersoncountychamber.org/events/details/ribbon-cutting-off-the-wall-books-n-cafe-5795
END:VEVENT

END:VCALENDAR
