BEGIN:VCALENDAR
VERSION:2.0
PRODID:-//ChamberMaster//Event Calendar 2.0//EN
METHOD:PUBLISH
X-PUBLISHED-TTL:P3D
REFRESH-INTERVAL:P3D
CALSCALE:GREGORIAN
BEGIN:VEVENT
DTSTART:20221115T220000Z
DTEND:20221116T000000Z
X-MICROSOFT-CDO-ALLDAYEVENT:FALSE
SUMMARY:Ribbon Cutting & Open House: AdventHealth Age-Friendly Center
DESCRIPTION:AdventHealth Hendersonville is the first health system to be designated as an Age-Friendly Initiative Participant and the only health system in Western North Carolina to earn the Age-Friendly Committed to Care Excellence designation for each of its AdventHealth Medical Group locations across the region. AdventHealth earned these recognitions for its commitment to care for older adults through an essential set of Age-Friendly\, evidence-based practices that are consistent with the What Matters focus for older adults and their families.\n\n \n\nAdventHealth's latest step on this journey to provide whole-person care   body\, mind and spirit to older adults and the caregivers is our new Age-Friendly Center\, located at AdventHealth Medical Group Multispecialty at Laurel Park.  \n\n \n\nWe invite the community to join see these initiatives in practice when you join us for the ribbon cutting and open house.
X-ALT-DESC;FMTTYPE=text/html:<span style="font-family:proxima nova\;"><span style="font-size:12.0pt\;">AdventHealth Hendersonville is the first health system to be designated as an Age-Friendly Initiative Participant and the only health system in Western North Carolina to earn the Age-Friendly Committed to Care Excellence designation for each of its AdventHealth Medical Group locations across the region. AdventHealth earned these recognitions for its commitment to care for older adults through an essential set of Age-Friendly\, evidence-based practices that are consistent with the What Matters focus for older adults and their families.</span></span><br />\n&nbsp\;<br />\n<span style="font-family:proxima nova\;"><span style="font-size:12.0pt\;">AdventHealth&rsquo\;s latest step on this journey to provide whole-person care &ndash\; body\, mind and spirit to older adults and the caregivers is our new Age-Friendly Center\, located at AdventHealth Medical Group Multispecialty at Laurel Park.&nbsp\; </span></span><br />\n&nbsp\;<br />\n<span style="font-family:proxima nova\;"><span style="font-size:12.0pt\;">We invite the community to join see these initiatives in practice when you join us for the ribbon cutting and open house.</span></span>
LOCATION:AdventHealth Medical Group Multispecialty at Laurel Park | 1881 Pisgah Dr\, Hendersonville
UID:e.2975.4647
SEQUENCE:3
DTSTAMP:20260422T190740Z
URL:https://business.hendersoncountychamber.org/events/details/ribbon-cutting-open-house-adventhealth-age-friendly-center-4647
END:VEVENT

END:VCALENDAR
