BEGIN:VCALENDAR
VERSION:2.0
PRODID:-//ChamberMaster//Event Calendar 2.0//EN
METHOD:PUBLISH
X-PUBLISHED-TTL:P3D
REFRESH-INTERVAL:P3D
CALSCALE:GREGORIAN
BEGIN:VEVENT
DTSTART:20230615T200000Z
DTEND:20230615T210000Z
X-MICROSOFT-CDO-ALLDAYEVENT:FALSE
SUMMARY:Ribbon Cutting & Open House: Noble Pest Solutions
DESCRIPTION:Join us in celebrating Noble Pest Solutions New Location with a Ribbon Cutting and Open House!\n\n\n\nNoble Pest Solutions realized that our local community needed an honest\, local pest control company that places integrity and solutions first. They have a dedicated\, close-knit team of friendly\, experienced\, certified\, and licensed pest professionals and are ready to help you manage those unwelcome pests around your home and garden! Whether you're in need of traditional pest management services\, or you're interested in a more natural approach\, they've got you covered. They also are deeply connected to the communities in which they serve and give back by volunteering and sponsoring local teams\, non-profits\, and associations. Come learn more about them and celebrate a small locally owned business. \n\n\n\nEvent starts at 4pm\, Ribbon Cutting and giveaways at 4:30pm.  Complimentary food & beverages will be provided from local partners.\n\nAdditional parking on West Allen Street & Church Street\n\n\n\nThank you to Duke Energy for being the Presenting Sponsor of 2023 Ribbon Cuttings!
X-ALT-DESC;FMTTYPE=text/html:<h3><span style="font-size:12px\;">Join us in celebrating Noble Pest Solutions New Location with a Ribbon Cutting and Open House!<br />\n<br />\nNoble Pest Solutions&nbsp\;realized that our local community needed an honest\, local pest control company that places integrity and solutions first. They&nbsp\;have a dedicated\, close-knit&nbsp\;team of friendly\, experienced\, certified\, and licensed pest professionals and are ready to help you manage those unwelcome pests around your home and garden! Whether&nbsp\;you&#39\;re in need of traditional pest management services\, or you&#39\;re interested in a more natural approach\, they&#39\;ve got you covered. They also are&nbsp\;deeply connected&nbsp\;to the communities in which they serve and give back by volunteering and sponsoring local teams\, non-profits\, and associations. Come learn more about&nbsp\;them and celebrate a small locally owned business.&nbsp\;<br />\n<br />\nEvent starts at 4pm\, Ribbon Cutting and giveaways at 4:30pm.&nbsp\; Complimentary food &amp\; beverages will be provided from local partners.<br />\nAdditional parking on West Allen Street &amp\; Church Street<br />\n<br />\nThank you to&nbsp\;<a href="https://www.duke-energy.com/" style="font-size: 12px\; font-family: Lato\, sans-serif\; box-sizing: inherit\; color: rgb(36\, 73\, 158)\; line-height: inherit\; text-decoration-line: none\;">Duke Energy</a>&nbsp\;for being the Presenting Sponsor of 2023 Ribbon Cuttings!</span></h3>\n
LOCATION:120 W Allen St Suite 20 Hendersonville\, NC
UID:e.2975.5767
SEQUENCE:3
DTSTAMP:20260419T221233Z
URL:https://business.hendersoncountychamber.org/events/details/ribbon-cutting-open-house-noble-pest-solutions-5767
END:VEVENT

END:VCALENDAR
