BEGIN:VCALENDAR
VERSION:2.0
PRODID:-//ChamberMaster//Event Calendar 2.0//EN
METHOD:PUBLISH
X-PUBLISHED-TTL:P3D
REFRESH-INTERVAL:P3D
CALSCALE:GREGORIAN
BEGIN:VEVENT
DTSTART:20230301T210000Z
DTEND:20230302T000000Z
X-MICROSOFT-CDO-ALLDAYEVENT:FALSE
SUMMARY:Ribbon Cutting & Open House: Super Signguy
DESCRIPTION:Join us in celebrating Super Signguy's Grand Opening at their new sign shop location. They'll be serving appetizers\, desserts and drinks. You'll get to see examples of some of their work and you can enter in a raffle to win some signage for your business.\n\n\n\nThe Super Signguy LLC was established in 2017 to create exceptional signs for small businesses on any budget. They are a community-focused company that values building lasting relationships with customers and having a positive impact on the cities where they live and work. The Super Signguy provides full-service signage solutions with a focus on creating a cohesive\, comprehensive branding package for their customers. They are fully licensed to manufacture and install interior and exterior signs\, and are also 3M-certified for vehicle wraps on everything from delivery vans to race cars.
X-ALT-DESC;FMTTYPE=text/html:Join us in celebrating Super Signguy&#39\;s Grand Opening at their new sign shop location. They&#39\;ll be serving appetizers\, desserts and drinks. You&#39\;ll get to see examples of some of their work and you can enter in a raffle to win some signage for your business.<br />\n<br />\nThe Super Signguy LLC was established in 2017 to create exceptional signs for small businesses on any budget. They are a community-focused company that values building lasting relationships with customers and having a positive impact on the cities where they live and work. The Super Signguy provides full-service signage solutions with a focus on creating a cohesive\, comprehensive branding package for their customers. They are fully licensed to manufacture and install interior and exterior signs\, and are also 3M-certified for vehicle wraps on everything from delivery vans to race cars.<br />\n<br />\n<br />\n<br />\n&nbsp\;
LOCATION:1570 Patton Ave Suite 5 & 6 Asheville\, NC Follow GPS to 1570 Patton Ave\, Asheville\, NC 28806. This will take you to the lower level of the building on Patton Ave. They are up the stairs on the outside of the building\, upper level on the back side. You can park in the lower lot on Patton Ave\, or in the back lot on Mimosa Dr\, or at St George's Episcopal Church lot just down the road.
UID:e.2975.5211
SEQUENCE:3
DTSTAMP:20260422T112217Z
URL:https://business.hendersoncountychamber.org/events/details/ribbon-cutting-open-house-super-signguy-5211
END:VEVENT

END:VCALENDAR
