BEGIN:VCALENDAR
VERSION:2.0
PRODID:-//ChamberMaster//Event Calendar 2.0//EN
METHOD:PUBLISH
X-PUBLISHED-TTL:P3D
REFRESH-INTERVAL:P3D
CALSCALE:GREGORIAN
BEGIN:VEVENT
DTSTART:20230621T200000Z
DTEND:20230621T210000Z
X-MICROSOFT-CDO-ALLDAYEVENT:FALSE
SUMMARY:Ribbon Cutting & Open House: The Queen B's marketplace
DESCRIPTION:Join us in celebrating The Queen B's Marketplace with a Ribbon Cutting and Open House!\n\n\n\nIt all started with Breedloves Family Restaurant in early 2020.  Mike & Jenny Breedlove and son Cody built the business during all the covid restrictions but managed to increase business and gain a very loyal customer base.  In 2023 as food cost continued to rise and the employee market declined the Breedloves decided to close and change the way of doing business.\n\n\n\nThank you to Duke Energy for being the Presenting Sponsor of 2023 Ribbon Cuttings!
X-ALT-DESC;FMTTYPE=text/html:<h3><span style="font-family:arial\;">Join us in celebrating The Queen B&#39\;s Marketplace&nbsp\;with a Ribbon Cutting and Open House!<br />\n<br />\n<span style="caret-color: auto\;">It all started with Breedloves Family Restaurant in early 2020.&nbsp\; Mike &amp\; Jenny Breedlove and son Cody built the business during all the covid restrictions but managed to increase business and gain a very loyal customer base.&nbsp\; In 2023 as food cost continued to rise and the employee market declined the Breedloves decided to close and change the way of doing business.</span><br />\n<br />\nThank you to&nbsp\;<a href="https://www.duke-energy.com/" style="font-size: 12px\; font-family: Lato\, sans-serif\; box-sizing: inherit\; color: rgb(36\, 73\, 158)\; line-height: inherit\; text-decoration-line: none\;">Duke Energy</a>&nbsp\;for being the Presenting Sponsor of 2023 Ribbon Cuttings!</span></h3>\n
LOCATION:316 Chadwick Ave\, Hendersonville\, NC 28791
UID:e.2975.5771
SEQUENCE:3
DTSTAMP:20260419T221723Z
URL:https://business.hendersoncountychamber.org/events/details/ribbon-cutting-open-house-the-queen-b-s-marketplace-5771
END:VEVENT

END:VCALENDAR
