BEGIN:VCALENDAR
VERSION:2.0
PRODID:-//ChamberMaster//Event Calendar 2.0//EN
METHOD:PUBLISH
X-PUBLISHED-TTL:P3D
REFRESH-INTERVAL:P3D
CALSCALE:GREGORIAN
BEGIN:VEVENT
DTSTART:20230110T210000Z
DTEND:20230110T220000Z
X-MICROSOFT-CDO-ALLDAYEVENT:FALSE
SUMMARY:Ribbon Cutting & Rebranding Literacy Connection
DESCRIPTION:Join us for a Ribbon Cutting at Literacy Connection\, formally known as Blue Ridge Literacy Council. We will be celebrating the the new name and logo\, as well as a tour of the facility with light refreshments and drinks!\n\n \n\nLiteracy Connection serves to develop literacy skills that promote economic and social success!\n\n\n\n2023 Ribbon Cuttings are Sponsored by Duke Energy
X-ALT-DESC;FMTTYPE=text/html:<div align="center" style="color: rgb(64\, 63\, 66)\; font-family: Arial\, Verdana\, Helvetica\, sans-serif\; font-size: 12px\; text-align: center\;"><span style="font-size: 14px\; color: rgb(128\, 128\, 128)\;">Join us for a Ribbon Cutting at Literacy Connection\, formally known as Blue Ridge Literacy Council. We will be celebrating the the new name and logo\, as well as a tour of the facility with light refreshments and drinks!</span></div>\n\n<div align="center" style="color: rgb(64\, 63\, 66)\; font-family: Arial\, Verdana\, Helvetica\, sans-serif\; font-size: 12px\; text-align: center\;">&nbsp\;</div>\n\n<div align="center" style="color: rgb(64\, 63\, 66)\; font-family: Arial\, Verdana\, Helvetica\, sans-serif\; font-size: 12px\; text-align: center\;"><span style="font-size: 14px\; color: rgb(128\, 128\, 128)\;">Literacy Connection serves to develop literacy skills that promote economic and social success!<br />\n<br />\n2023 Ribbon Cuttings are Sponsored by</span><span style="font-size:14px\;">&nbsp\;<a href="https://www.duke-energy.com/home">Duke Energy</a></span><br />\n&nbsp\;</div>\n
LOCATION:Literacy Connection | 59 E Clairmont Dr\, Hendersonville
UID:e.2975.4719
SEQUENCE:3
DTSTAMP:20260422T153422Z
URL:https://business.hendersoncountychamber.org/events/details/ribbon-cutting-rebranding-literacy-connection-4719
END:VEVENT

END:VCALENDAR
