BEGIN:VCALENDAR
VERSION:2.0
PRODID:-//ChamberMaster//Event Calendar 2.0//EN
METHOD:PUBLISH
X-PUBLISHED-TTL:P3D
REFRESH-INTERVAL:P3D
CALSCALE:GREGORIAN
BEGIN:VEVENT
DTSTART:20231012T203000Z
DTEND:20231012T213000Z
X-MICROSOFT-CDO-ALLDAYEVENT:FALSE
SUMMARY:Ribbon Cutting: Safelight's Pet Kennel and Training Space
DESCRIPTION:Join us as we celebrate Safelight's newest addition\, the Pet Kennel and Training Space!\n\nSafelight has been working hard to renovate the perfect space to house the pets of survivors residing in their shelter. In partnership with Blue Ridge Humane Society\, they have that space! Additionally\, they have created a group training room and computer lab for their programs. \n\n\n\nThank you to Duke Energy for being the Presenting Sponsor of 2023 Ribbon Cuttings!
X-ALT-DESC;FMTTYPE=text/html:<p><span style="font-size:14px\;"><span style="font-family:arial\;"><big>Join us as we celebrate Safelight&#39\;s newest addition\, the Pet Kennel and Training Space!</big></span></span></p>\n\n<p><span style="font-size:14px\;"><span style="font-family:arial\;">Safelight has been working hard to renovate the perfect space to house the pets of survivors residing in their shelter. In partnership with Blue Ridge Humane Society\, they have that space! Additionally\, they have created a group training room and computer lab for their programs.&nbsp\;<br />\n<br />\n<big>Thank you to Duke Energy for being the Presenting Sponsor of 2023 Ribbon Cuttings!</big></span></span></p>\n
LOCATION:133 5th Ave West\, Hendersonville
UID:e.2975.6165
SEQUENCE:3
DTSTAMP:20260419T162947Z
URL:https://business.hendersoncountychamber.org/events/details/ribbon-cutting-safelight-s-pet-kennel-and-training-space-6165
END:VEVENT

END:VCALENDAR
