BEGIN:VCALENDAR
VERSION:2.0
PRODID:-//ChamberMaster//Event Calendar 2.0//EN
METHOD:PUBLISH
X-PUBLISHED-TTL:P3D
REFRESH-INTERVAL:P3D
CALSCALE:GREGORIAN
BEGIN:VEVENT
DTSTART:20230501T200000Z
DTEND:20230501T210000Z
X-MICROSOFT-CDO-ALLDAYEVENT:FALSE
SUMMARY:Ribbon Cutting: State Farm Insurance - Tabatha Hamlin
DESCRIPTION:After waiting 3 long years through the COVID Pandemic\, we are pleased to celebrate State Farm Insurance in Fletcher with a Ribbon Cutting. Please join us in the celebration! Food\, drinks and giveaways will be present!\n\n\n\nState Farm Insurance is a leading insurance and financial service company\, providing a wide range of products and services to individuals\, families\, and businesses. With a history dating back to 1922\, State Farm has grown to become one of the largest insurance providers in the country. The company is best known for its commitment to customer service\, financial strength and community involvement\, and it has a strong reputation for providing reliable and trustworthy insurance coverage. \n\n\n\n**Parking** \n\nYou can park at the bank next door (used to be TD Bank) or at the Go Grocery and walk up the hill. \n\n \nThank you to Duke Energy for being the Presenting Sponsor of 2023 Ribbon Cuttings!
X-ALT-DESC;FMTTYPE=text/html:<span style="font-size:14px\;"><span style="font-family:arial\;">After waiting 3 long years through the COVID Pandemic\, we are pleased to celebrate State Farm Insurance in Fletcher with a Ribbon Cutting. Please join us in the celebration! Food\, drinks and giveaways will be present!<br />\n<br />\nState Farm Insurance is a leading insurance and financial service company\, providing a wide range of products and services to individuals\, families\, and businesses. With a history dating back to 1922\, State Farm has grown to become one of the largest insurance providers in the country. The company is best known for its commitment to customer service\, financial strength and community involvement\, and it has a strong reputation for providing reliable and trustworthy insurance coverage.&nbsp\;<br />\n<br />\n**Parking**&nbsp\;<br />\nYou can park at the bank next door (used to be TD Bank) or at the Go Grocery and walk up the hill.&nbsp\;</span></span><br />\n&nbsp\;\n<p style="box-sizing: inherit\; margin: 0px 0px 1.25rem\; padding: 0px\; font-variant-numeric: normal\; font-variant-east-asian: normal\; font-variant-alternates: normal\; font-kerning: auto\; font-optical-sizing: auto\; font-feature-settings: normal\; font-variation-settings: normal\; font-stretch: normal\; font-size: 1.125rem\; line-height: 1.6\; font-family: Lato\, sans-serif\; text-rendering: optimizelegibility\; color: rgb(77\, 77\, 77)\; text-align: center\;"><span style="font-size:14px\;"><span style="font-family:arial\;">Thank you to&nbsp\;<a href="https://www.duke-energy.com/" style="box-sizing: inherit\; color: rgb(36\, 73\, 158)\; line-height: inherit\; text-decoration-line: none\;">Duke Energy</a>&nbsp\;for being the Presenting Sponsor of 2023 Ribbon Cuttings!</span></span></p>\n
LOCATION:State Farm Insurance | 3839 Hendersonville Rd\, Fletcher
UID:e.2975.5310
SEQUENCE:3
DTSTAMP:20260422T092225Z
URL:https://business.hendersoncountychamber.org/events/details/ribbon-cutting-state-farm-insurance-tabatha-hamlin-5310
END:VEVENT

END:VCALENDAR
