BEGIN:VCALENDAR
VERSION:2.0
PRODID:-//ChamberMaster//Event Calendar 2.0//EN
METHOD:PUBLISH
X-PUBLISHED-TTL:P3D
REFRESH-INTERVAL:P3D
CALSCALE:GREGORIAN
BEGIN:VEVENT
DTSTART:20230829T200000Z
DTEND:20230829T210000Z
X-MICROSOFT-CDO-ALLDAYEVENT:FALSE
SUMMARY:Ribbon Cutting: TerraBella Hendersonville
DESCRIPTION:Join us in celebrating fellow members\, Terra Bella Hendersonville and their renovations with a Ribbon Cutting!\n\n\n\nTerraBella Hendersonville is nestled in the quiet outskirts of Hendersonville\, North Carolina and is known for its home-like atmosphere. It is staffed 24 hours a day with trained healthcare personnel and offers Assisted Living and Memory Care with therapy services. Also\, residents enjoy daily activities\, restaurant style dining\, library and sitting areas\, craft and activity room\, housekeeping services and many other amenities. We strive to help your loved one maintain as much independence and individualism as possible in a safe and healthy environment while also providing an active and engaging community to call home. \n\n\n\n\n\nAll 2023 Ribbon Cuttings are Presented by Duke Energy!
X-ALT-DESC;FMTTYPE=text/html:<span style="font-size:14px\;"><span style="font-family:arial\;"><span style="color:black\;">Join us in celebrating fellow members\, Terra Bella Hendersonville and their renovations with a Ribbon Cutting!</span><br />\n<br />\nTerraBella Hendersonville is nestled in the quiet outskirts of Hendersonville\, North Carolina and is known for its home-like atmosphere. It is staffed 24 hours a day with trained healthcare personnel and offers Assisted Living and Memory Care with therapy services. Also\, residents enjoy daily activities\, restaurant style dining\, library and sitting areas\, craft and activity room\, housekeeping services and many other amenities. We strive to help your loved one maintain as much independence and individualism as possible in a safe and healthy environment while also providing an active and engaging community to call home.&nbsp\;<br />\n<br />\n<br />\nAll 2023 Ribbon Cuttings are Presented by Duke Energy!</span></span>
LOCATION:3851 Howard Gap Rd\, Hendersonville
UID:e.2975.6001
SEQUENCE:3
DTSTAMP:20260419T201559Z
URL:https://business.hendersoncountychamber.org/events/details/ribbon-cutting-terrabella-hendersonville-6001
END:VEVENT

END:VCALENDAR
