BEGIN:VCALENDAR
VERSION:2.0
PRODID:-//ChamberMaster//Event Calendar 2.0//EN
METHOD:PUBLISH
X-PUBLISHED-TTL:P3D
REFRESH-INTERVAL:P3D
CALSCALE:GREGORIAN
BEGIN:VEVENT
DTSTART:20230713T200000Z
DTEND:20230713T210000Z
X-MICROSOFT-CDO-ALLDAYEVENT:FALSE
SUMMARY:Ribbon Cutting: The Buzz
DESCRIPTION:Join us as we celebrate the Ribbon Cutting of The Buzz!\n\n\n\nThe establishment taps into the growing sober-curious movement that is taking place across the nation\, offering a place for individuals to explore a life without alcohol. What sets The Buzz apart is that 100% of its proceeds are reinvested into the Hope Coalition\, supporting recovery and prevention programs. \n\n\n\nBy visiting The Buzz\, patrons not only get to enjoy the best-tasting mocktails in Hendersonville but also contribute to a worthy cause. The establishment encourages individuals to re-evaluate their relationship with alcohol in a safe and supportive setting\, fostering new and healthy connections.\n\n\n\nThank you to Duke Energy for being the Presenting Sponsor of 2023 Ribbon Cuttings!
X-ALT-DESC;FMTTYPE=text/html:<p><span style="font-family:arial\,sans-serif\;"><span style="font-size:12.0pt\;">Join us as we celebrate the Ribbon Cutting of The Buzz!</span></span><br />\n<br />\n<span style="font-family:arial\,sans-serif\;"><span style="font-size:12.0pt\;">The establishment taps into the growing sober-curious movement that is taking place across the nation\, offering a place for individuals to explore a life without alcohol. What sets The Buzz apart is that 100% of its proceeds are reinvested into the Hope Coalition\, supporting recovery and prevention programs. </span></span><br />\n<br />\n<span style="font-family:arial\,sans-serif\;"><span style="font-size:12.0pt\;">By visiting The Buzz\, patrons not only get to enjoy the best-tasting mocktails in Hendersonville but also contribute to a worthy cause. The establishment encourages individuals to re-evaluate their relationship with alcohol in a safe and supportive setting\, fostering new and healthy connections.</span></span><br />\n<br />\n<span style="font-family:arial\,sans-serif\;"><span style="font-size:12.0pt\;">Thank you to Duke Energy for being the Presenting Sponsor of 2023 Ribbon Cuttings!</span></span></p>\n
LOCATION:225 South Grove St\, Hendersonville
UID:e.2975.5846
SEQUENCE:3
DTSTAMP:20260419T201159Z
URL:https://business.hendersoncountychamber.org/events/details/ribbon-cutting-the-buzz-5846
END:VEVENT

END:VCALENDAR
