BEGIN:VCALENDAR
VERSION:2.0
PRODID:-//ChamberMaster//Event Calendar 2.0//EN
METHOD:PUBLISH
X-PUBLISHED-TTL:P3D
REFRESH-INTERVAL:P3D
CALSCALE:GREGORIAN
BEGIN:VEVENT
DTSTART:20230502T190000Z
DTEND:20230502T200000Z
X-MICROSOFT-CDO-ALLDAYEVENT:FALSE
SUMMARY:Ribbon Cutting: Veterans Healing Farm
DESCRIPTION:Join us as we celebrate the Grand Opening & Ribbon Cutting of Veterans Healing Farm's Bunkhouse\, which is now on the grid!\n\n\n\nVeterans Healing Farm is a 501c3 non profit that enhances the mental and emotional well-being of our nation's veterans and their families through workshops on farming techniques and fostering a thriving micro-community. \n\n\n\nThey believe farming offers multiple therapeutic benefits\, from eating nutrient dense foods\, vitamin D absorption\, physical exercise and being immersed in the beauty of nature. \n\n\n\nCome out to see their bunkhouse that is now on the grid\, thanks to Duke Energy!\n\n\n\nAll 2023 Ribbon Cuttings are Presented by Duke Energy.
X-ALT-DESC;FMTTYPE=text/html:Join us as we celebrate the Grand Opening &amp\; Ribbon Cutting of Veterans Healing Farm&#39\;s Bunkhouse\, which is now on the grid!<br />\n<br />\nVeterans Healing Farm is a 501c3 non profit that enhances the mental and emotional well-being of our nation&#39\;s veterans and their families through workshops on farming techniques and fostering a thriving micro-community.&nbsp\;<br />\n<br />\nThey believe farming offers multiple therapeutic benefits\, from eating nutrient dense foods\, vitamin D absorption\, physical exercise and being immersed in the beauty of nature.&nbsp\;<br />\n<br />\nCome out to see their bunkhouse that is now on the grid\, thanks to Duke Energy!<br />\n<br />\nAll 2023 Ribbon Cuttings are Presented by Duke Energy.&nbsp\;
LOCATION:Veterans Healing Farm 38 Yale Rd\, Hendersonville
UID:e.2975.5520
SEQUENCE:3
DTSTAMP:20260422T090950Z
URL:https://business.hendersoncountychamber.org/events/details/ribbon-cutting-veterans-healing-farm-5520
END:VEVENT

END:VCALENDAR
