BEGIN:VCALENDAR
VERSION:2.0
PRODID:-//ChamberMaster//Event Calendar 2.0//EN
METHOD:PUBLISH
X-PUBLISHED-TTL:P3D
REFRESH-INTERVAL:P3D
CALSCALE:GREGORIAN
BEGIN:VEVENT
DTSTART:20230302T210000Z
DTEND:20230302T220000Z
X-MICROSOFT-CDO-ALLDAYEVENT:FALSE
SUMMARY:Ribbon Cutting: WNC Business
DESCRIPTION:Join us as we celebrate the Grand Opening & Ribbon Cutting of WNC Business!\n\n\n\nWNC Business was created to Connect\, Inform\, and Inspire the local business community. The publication consists of business news\, profiles\, advice\, events\, resource \, and stories that encourage success for our community. It is a free product that is useful\, engaging\, motivating\, and educational for business owners\, decision makers\, and industry professionals. \n\n\n\nWhile the event will start at 4:00 PM\, the Ribbon Cutting Ceremony will be at 4:30 PM.\n\n\n\nWNC Business is a division of Hulsey Media\, Inc. \n\n\n\n2023 Ribbon Cuttings are Presented by Duke Energy.
X-ALT-DESC;FMTTYPE=text/html:Join us as we celebrate the Grand Opening &amp\; Ribbon Cutting of WNC Business!<br />\n<br />\nWNC Business was created to Connect\, Inform\, and Inspire the local business community. The publication consists of business news\, profiles\, advice\, events\, resource \, and stories that encourage success for our community. It is a free product that is useful\, engaging\, motivating\, and educational for business owners\, decision makers\, and industry professionals.&nbsp\;<br />\n<br />\nWhile the event will start at 4:00 PM\, the Ribbon Cutting Ceremony will be at 4:30 PM.<br />\n<br />\nWNC Business is a division of Hulsey Media\, Inc.&nbsp\;<br />\n<br />\n2023 Ribbon Cuttings are Presented by <a href="https://www.duke-energy.com/home">Duke Energy</a>.
LOCATION:Dry Falls Brewing Co. | 425 Kanuga Rd\, Hendersonville
UID:e.2975.5331
SEQUENCE:3
DTSTAMP:20260422T110946Z
URL:https://business.hendersoncountychamber.org/events/details/ribbon-cutting-wnc-business-5331
END:VEVENT

END:VCALENDAR
