BEGIN:VCALENDAR
VERSION:2.0
PRODID:-//ChamberMaster//Event Calendar 2.0//EN
METHOD:PUBLISH
X-PUBLISHED-TTL:P3D
REFRESH-INTERVAL:P3D
CALSCALE:GREGORIAN
BEGIN:VEVENT
DTSTART:20230707T233000Z
DTEND:20230708T020000Z
X-MICROSOFT-CDO-ALLDAYEVENT:FALSE
SUMMARY:Rock of Ages
DESCRIPTION:Approximate Run Time: 2 hours\, 15 minutes\n\nRating: Mature due to adult content\, smoking\, drug and alcohol use\, and adult language.\n\n\n\n\n\n\n\n\n\n\nThis five-time Tony Award-nominated musical tells the story of a small-town girl\, a city boy\, and a rock 'n' roll romance on the Sunset Strip. But when the bar where rock reigns supreme is set to be demolished\, it's up to these wannabe rockers and their band of friends to save the day   and the music. Rock of Ages takes you back to the time of big bands with big egos playing big guitar solos and sporting even bigger hair! This jukebox musical features all of your favorite '80s rock anthems and power ballads from bands including Styx\, Journey\, Bon Jovi\, Whitesnake\, Night Ranger\, REO Speedwagon\, Pat Benatar\, Twisted Sister and more.
X-ALT-DESC;FMTTYPE=text/html:<div style="text-align:initial">\n<div style="text-align:var(--text-align)">\n<div style="text-align:var(--text-align)">\n<div>\n<div>\n<p>Approximate Run Time: 2 hours\, 15 minutes<br />\nRating: Mature due to adult content\, smoking\, drug and alcohol use\, and adult language.</p>\n</div>\n</div>\n</div>\n</div>\n</div>\n\n<div style="text-align:initial">\n<div style="text-align:var(--text-align)">\n<div>\n<div>\n<p>This five-time Tony Award-nominated musical tells the story of a small-town girl\, a city boy\, and a rock &lsquo\;n&rsquo\; roll romance on the Sunset Strip. But when the bar where rock reigns supreme is set to be demolished\, it&rsquo\;s up to these wannabe rockers and their band of friends to save the day &ndash\; and the music.&nbsp\;<em>Rock of Ages</em>&nbsp\;takes you back to the time of big bands with big egos playing big guitar solos and sporting even bigger hair! This jukebox musical features all of your favorite &lsquo\;80s rock anthems and power ballads from bands including Styx\, Journey\, Bon Jovi\, Whitesnake\, Night Ranger\, REO Speedwagon\, Pat Benatar\, Twisted Sister and more.&nbsp\;</p>\n</div>\n</div>\n</div>\n</div>\n\n<div style="text-align:initial">\n<div style="text-align:var(--text-align)">\n<div>\n<div>&nbsp\;</div>\n</div>\n</div>\n</div>\n
LOCATION:The Hendersonville Theatre 229 S. Washington St. Hendersonville\, NC 28739
UID:e.2975.5835
SEQUENCE:3
DTSTAMP:20260419T201321Z
URL:https://business.hendersoncountychamber.org/events/details/rock-of-ages-5835
END:VEVENT

END:VCALENDAR
