BEGIN:VCALENDAR
VERSION:2.0
PRODID:-//ChamberMaster//Event Calendar 2.0//EN
METHOD:PUBLISH
X-PUBLISHED-TTL:P3D
REFRESH-INTERVAL:P3D
CALSCALE:GREGORIAN
BEGIN:VEVENT
DTSTART:20230513T233000Z
DTEND:20230514T010000Z
X-MICROSOFT-CDO-ALLDAYEVENT:FALSE
SUMMARY:Savannah Sipping Society
DESCRIPTION:By: Jessie Jones\, Nicholas Hope\, Jamie Wooten\n\nDirected by: Beth Norris\n\n \n\nIn this delightful comedy\, four unique Southern women\, all needing to escape the sameness of their day-to-day routines\, are drawn together by Fate and an impromptu happy hour and decide it's high time to reclaim the enthusiasm for life they've lost through the years. Over the course of six months\, filled with laughter\, hilarious misadventures\, and the occasional liquid refreshment\, these middle-aged women successfully bond and find the confidence to jumpstart their new lives. Together\, they discover lasting friendships and a renewed determination to live in the moment and most importantly\, realize it's never too late to make new old friends.\n\n \n\nApproximate Run Time: 2 hours\n\nRating: PG due to mild adult themes\n\n \n\nThis project is supported by Exceptional Papers\, Inc\, the North Carolina Arts Council\, a division of the Department of Natural and Cultural Resources\, the Arts Council of Henderson County and the City of Hendersonville.
X-ALT-DESC;FMTTYPE=text/html:<div>By: Jessie Jones\, Nicholas Hope\, Jamie Wooten</div>\n\n<div>Directed by: Beth Norris<br />\n&nbsp\;</div>\n\n<div>In this delightful comedy\, four unique Southern women\, all needing to escape the sameness of their day-to-day routines\, are drawn together by Fate&mdash\;and an impromptu happy hour&mdash\;and decide it&rsquo\;s high time to reclaim the enthusiasm for life they&rsquo\;ve lost through the years. Over the course of six months\, filled with laughter\, hilarious misadventures\, and the occasional liquid refreshment\, these middle-aged women successfully bond and find the confidence to jumpstart their new lives. Together\, they discover lasting friendships and a renewed determination to live in the moment&mdash\;and most importantly\, realize it&rsquo\;s never too late to make new old friends.<br />\n&nbsp\;</div>\n\n<div>Approximate Run Time: 2 hours<br />\nRating: PG due to mild adult themes<br />\n&nbsp\;</div>\n\n<div>This project is supported by Exceptional Papers\, Inc\, the North Carolina Arts Council\, a division of the Department of Natural and Cultural Resources\, the Arts Council of Henderson County and the City of Hendersonville.&nbsp\;</div>\n
LOCATION:Hendersonville Theatre 229 S. Washington Street Hendersonville\, NC 28739
UID:e.2975.5526
SEQUENCE:3
DTSTAMP:20260422T092534Z
URL:https://business.hendersoncountychamber.org/events/details/savannah-sipping-society-05-13-2023-5526
END:VEVENT

END:VCALENDAR
