BEGIN:VCALENDAR
VERSION:2.0
PRODID:-//ChamberMaster//Event Calendar 2.0//EN
METHOD:PUBLISH
X-PUBLISHED-TTL:P3D
REFRESH-INTERVAL:P3D
CALSCALE:GREGORIAN
BEGIN:VEVENT
DTSTART:20230520T160000Z
DTEND:20230520T170000Z
X-MICROSOFT-CDO-ALLDAYEVENT:FALSE
SUMMARY:Self Defense Workshop
DESCRIPTION:One of the biggest fears that many have is being confronted by a bigger and stronger attacker on the street. It can be a scary situation if you're ever threatened by someone who is bigger and stronger than you. Not knowing how to defend yourself makes it even more dangerous. BJJ has proven that it can help you control larger opponents. Most fights and assaults end up on the ground. In this workshop you will learn how to defend yourself if taken to the ground.
X-ALT-DESC;FMTTYPE=text/html:<span style="color:rgb(0\, 0\, 0)\; font-family:avenir\; font-size:14px">One of the biggest fears that many have is being confronted by a bigger and stronger attacker on the street. It can be a scary situation if you&rsquo\;re ever threatened by someone who is bigger and stronger than you. Not knowing how to defend yourself makes it even more dangerous. BJJ has proven that it can help you control larger opponents. Most fights and assaults end up on the ground. In this workshop you will learn how to defend yourself if taken to the ground.</span>
LOCATION:Hendokickboxing 245 N King Street Hendersonville\, NC 28792
UID:e.2975.5557
SEQUENCE:3
DTSTAMP:20260422T090117Z
URL:https://business.hendersoncountychamber.org/events/details/self-defense-workshop-5557
END:VEVENT

END:VCALENDAR
