BEGIN:VCALENDAR
VERSION:2.0
PRODID:-//ChamberMaster//Event Calendar 2.0//EN
METHOD:PUBLISH
X-PUBLISHED-TTL:P3D
REFRESH-INTERVAL:P3D
CALSCALE:GREGORIAN
BEGIN:VEVENT
DTSTART:20231026T140000Z
DTEND:20231026T160000Z
X-MICROSOFT-CDO-ALLDAYEVENT:FALSE
SUMMARY:Seminar Series: Successful Business Succession Planning Joint Seminar - Strauss Attorney's & Steward Partners
DESCRIPTION:As a business owner\, have you ever thought about how you will exit your own business one day? When is the right time? Who will purchase it? Will you get the value you want? How can you minimize taxes? How will it affect your family planning?\n\n\n\nSuccession planning is an important part of any business to help it run smoothly and without interruption whenever there is a change in ownership or leadership. \n\n\n\nThis presentation will help business owners learn the benefits of Business Succession Planning and the risks of waiting to plan. \n\n\n\nSpeakers Include:\n\n- Brad Henry\, Attorney\n\n- James Fleming\, Attorney\n\n- Boaty Alexander\, CLU\, ChFC\, Wealth Manager\n\n- Peter Shanahan\, CFP\, MPAS\, Wealth Manager
X-ALT-DESC;FMTTYPE=text/html:As a business owner\, have you ever thought about how you will exit your own business one day? When is the right time? Who will purchase it? Will you get the value you want? How can you minimize taxes? How will it affect your family planning?<br />\n<br />\nSuccession planning is an important part of any business to help it run smoothly and without interruption whenever there is a change in ownership or leadership.&nbsp\;<br />\n<br />\nThis presentation will help business owners learn the benefits of Business Succession Planning and the risks of waiting to plan.&nbsp\;<br />\n<br />\nSpeakers Include:<br />\n- Brad Henry\, Attorney<br />\n- James Fleming\, Attorney<br />\n- Boaty Alexander\, CLU\, ChFC\, Wealth Manager<br />\n- Peter Shanahan\, CFP\, MPAS\, Wealth Manager<br />\n<br />\n&nbsp\;
LOCATION:The Chamber | 204 Kanuga Rd\, Hendersonville
UID:e.2975.6162
SEQUENCE:3
DTSTAMP:20260419T145719Z
URL:https://business.hendersoncountychamber.org/events/details/seminar-series-successful-business-succession-planning-joint-seminar-strauss-attorney-s-steward-partners-6162
END:VEVENT

END:VCALENDAR
