BEGIN:VCALENDAR
VERSION:2.0
PRODID:-//ChamberMaster//Event Calendar 2.0//EN
METHOD:PUBLISH
X-PUBLISHED-TTL:P3D
REFRESH-INTERVAL:P3D
CALSCALE:GREGORIAN
BEGIN:VEVENT
DTSTART:20221221T133000Z
DTEND:20221221T143000Z
X-MICROSOFT-CDO-ALLDAYEVENT:FALSE
SUMMARY:Small Business Committee
DESCRIPTION:Small Business Committee
X-ALT-DESC;FMTTYPE=text/html:Small Business Committee
LOCATION:Henderson County Chamber of Commerce Board Room 204 Kanuga Road\, Hendersonville
UID:e.2975.3390
SEQUENCE:3
DTSTAMP:20260422T164403Z
URL:https://business.hendersoncountychamber.org/events/details/small-business-committee-12-21-2022-3390
END:VEVENT

END:VCALENDAR
