BEGIN:VCALENDAR
VERSION:2.0
PRODID:-//ChamberMaster//Event Calendar 2.0//EN
METHOD:PUBLISH
X-PUBLISHED-TTL:P3D
REFRESH-INTERVAL:P3D
CALSCALE:GREGORIAN
BEGIN:VEVENT
DTSTART:20231123T140000Z
DTEND:20231123T153000Z
X-MICROSOFT-CDO-ALLDAYEVENT:FALSE
SUMMARY:South Asheville Turkey Trot
DESCRIPTION:The 5th annual South Asheville Turkey Trot presented by Hunter Subaru returns to Biltmore Park Town Square for 2023!\n\nMake plans to bring your family and friends and join in on the fun. Awesome race swag includes a comfy t-shirt\, goody bag and a unique finisher medal!\n\nThanksgiving is the largest running holiday with families all over the country! Turkey Trots are a great way to start the day. Join us at Biltmore Park Town Square and enjoy some fresh air and exercise before gathering around the table for your Thanksgiving feast! You'll share miles and smiles with your family and friends as part of this fun\, annual tradition.\n\nThe race is located in Biltmore Park Town Square in South Asheville\, North Carolina. The entire race is run throughout the Town Square and the surrounding neighborhoods within Biltmore Park\, and the course is USATF Certified!
X-ALT-DESC;FMTTYPE=text/html:<p>The 5th annual South Asheville Turkey Trot presented by Hunter Subaru returns to Biltmore Park Town Square for 2023!</p>\n\n<p>Make plans to bring your family and friends and join in on the fun. Awesome race swag includes a comfy t-shirt\, goody bag and a unique finisher medal!</p>\n\n<p>Thanksgiving is the largest running holiday with families all over the country! Turkey Trots are a great way to start the day. Join us at Biltmore Park Town Square and enjoy some fresh air and exercise before gathering around the table for your Thanksgiving feast! You&rsquo\;ll share miles and smiles with your family and friends as part of this fun\, annual tradition.</p>\n\n<p>The race is located in Biltmore Park Town Square in South Asheville\, North Carolina. The entire race is run throughout the Town Square and the surrounding neighborhoods within Biltmore Park\, and the course is USATF Certified!</p>\n
LOCATION:Biltmore Park Town Square One Town Square Blvd Asheville\, NC 28803
UID:e.2975.5990
SEQUENCE:3
DTSTAMP:20260419T131040Z
URL:https://business.hendersoncountychamber.org/events/details/south-asheville-turkey-trot-11-23-2023-5990
END:VEVENT

END:VCALENDAR
