BEGIN:VCALENDAR
VERSION:2.0
PRODID:-//ChamberMaster//Event Calendar 2.0//EN
METHOD:PUBLISH
X-PUBLISHED-TTL:P3D
REFRESH-INTERVAL:P3D
CALSCALE:GREGORIAN
BEGIN:VEVENT
DTSTART:20221124T140000Z
DTEND:20221124T153000Z
X-MICROSOFT-CDO-ALLDAYEVENT:FALSE
SUMMARY:South Asheville Turkey Trot
DESCRIPTION:We're back at Biltmore Park Town Square for the 2022 South Asheville Turkey Trot presented by Hunter Subaru! This classic holiday tradition in Asheville\, NC includes a professionally chip-timed and USATF certified and fully-marked course\, a Run. Eat. Nap. FREE race shirt\, and an awesome finisher medal!
X-ALT-DESC;FMTTYPE=text/html:We&#39\;re back at Biltmore Park Town Square for the 2022 South Asheville Turkey Trot presented by Hunter Subaru! This classic holiday tradition in Asheville\, NC includes a professionally chip-timed and USATF certified and fully-marked course\, a Run. Eat. Nap. FREE race shirt\, and an awesome finisher medal!
LOCATION:Biltmore Park Town Square
UID:e.2975.3633
SEQUENCE:3
DTSTAMP:20260422T185715Z
URL:https://business.hendersoncountychamber.org/events/details/south-asheville-turkey-trot-3633
END:VEVENT

END:VCALENDAR
