BEGIN:VCALENDAR
VERSION:2.0
PRODID:-//ChamberMaster//Event Calendar 2.0//EN
METHOD:PUBLISH
X-PUBLISHED-TTL:P3D
REFRESH-INTERVAL:P3D
CALSCALE:GREGORIAN
BEGIN:VEVENT
DTSTART:20230505T220000Z
DTEND:20230506T010000Z
X-MICROSOFT-CDO-ALLDAYEVENT:FALSE
SUMMARY:Star Wars Parent's Night Out on CInco de Mayo
DESCRIPTION:$45 per child\n	\n	\n	$25 for additional siblings\n	\n	\n	food and drinks will be provided\n	\n	\n	Glow in the dark Jedi Knight training - child must bring their own light saber\n	\n	\n	Glow in the dark Nerf Gun War\n	\n	\n	obstacle course training\n	\n	\n	movie during meal\n	\n	\n	dodgeball kids vs parents at the end\n\n	\n\n	ages 6-13
X-ALT-DESC;FMTTYPE=text/html:<ul>\n	<li>\n	<p>$45 per child</p>\n	</li>\n	<li>\n	<p>$25 for additional siblings</p>\n	</li>\n	<li>\n	<p>food and drinks will be provided</p>\n	</li>\n	<li>\n	<p>Glow in the dark Jedi Knight training - child must bring their own light saber</p>\n	</li>\n	<li>\n	<p>Glow in the dark Nerf Gun War</p>\n	</li>\n	<li>\n	<p>obstacle course training</p>\n	</li>\n	<li>\n	<p>movie during meal</p>\n	</li>\n	<li>\n	<p>dodgeball kids vs parents at the end<br />\n	<br />\n	ages 6-13</p>\n	</li>\n</ul>\n
LOCATION:Hendokickboxing & Krav Maga 245 N King Street Hendersonville\, NC 28792
UID:e.2975.5542
SEQUENCE:3
DTSTAMP:20260422T092227Z
URL:https://business.hendersoncountychamber.org/events/details/star-wars-parent-s-night-out-on-cinco-de-mayo-5542
END:VEVENT

END:VCALENDAR
