BEGIN:VCALENDAR
VERSION:2.0
PRODID:-//ChamberMaster//Event Calendar 2.0//EN
METHOD:PUBLISH
X-PUBLISHED-TTL:P3D
REFRESH-INTERVAL:P3D
CALSCALE:GREGORIAN
BEGIN:VEVENT
DTSTART:20221005T114000Z
DTEND:20221005T170000Z
X-MICROSOFT-CDO-ALLDAYEVENT:FALSE
SUMMARY:The Asheville Business Summit - presented by Barbara Bothe\, ActionCOACH & Hulsey Media
DESCRIPTION:Your Business should be genuinely fulfilling for you and your team!\n\nDo you remember what the future felt like?  Bright\, Energizing\, Bold?\n\nOver time\, the passion can fade.  Less energy is shared with your team.  Customers and community feel it too.\n\nHow great will it feel\, knowing  your team is energized and engaged for the future as well?\n\n\n\nThis is your chance to be in a room with business owners all ready to fan the flame of passion for business.  All ready to embrace new perspectives.  All ready to embrace more fulfillment in their business!\n\nThe Asheville Business Summit has two parts\; the conference\, and a Business Growth Planning session 1-on-1 with one of our seasoned business coaches.  New perspective and education get us nowhere without an Action  Plan\, and your private session is included with your registration.
X-ALT-DESC;FMTTYPE=text/html:<p>Your Business should be genuinely fulfilling for you and your team!<br />\nDo you remember what the future <em>felt </em>like?&nbsp\; Bright\, Energizing\, Bold?<br />\nOver time\, the passion can fade.&nbsp\; Less energy is shared with your team.&nbsp\; Customers and community feel it too.<br />\nHow great will it feel\, knowing&nbsp\; your team is energized and engaged for the future as well?<br />\n<br />\nThis is your chance to be in a room with business owners all ready to fan the flame of passion for business.&nbsp\; All ready to embrace new perspectives.&nbsp\; All ready to embrace more fulfillment in their business!</p>\n\n<p>The Asheville Business Summit has two parts\; the conference\, and a Business Growth Planning session 1-on-1 with one of our seasoned business coaches.&nbsp\; New perspective and education get us nowhere without an Action&nbsp\; Plan\, and your private session is included with your registration.</p>\n
LOCATION:Doubletree by Hilton Biltmore 115 Hendersonville Rd. Asheville\, NC 28803
UID:e.2975.4580
SEQUENCE:3
DTSTAMP:20260422T220845Z
URL:https://business.hendersoncountychamber.org/events/details/the-asheville-business-summit-4580
END:VEVENT

END:VCALENDAR
