BEGIN:VCALENDAR
VERSION:2.0
PRODID:-//ChamberMaster//Event Calendar 2.0//EN
METHOD:PUBLISH
X-PUBLISHED-TTL:P3D
REFRESH-INTERVAL:P3D
CALSCALE:GREGORIAN
BEGIN:VEVENT
DTSTART:20230624T233000Z
DTEND:20230625T013000Z
X-MICROSOFT-CDO-ALLDAYEVENT:FALSE
SUMMARY:The Maggie Valley Band
DESCRIPTION:Hendersonville Theatre proudly presents The Maggie Valley Band as June's intimate Hometown Sound concert. Hailing from the beautiful mountains of Maggie Valley\, The Maggie Valley Band brings sister-sister harmonies to a mix of indie and folk rock\, intertwined with a heavy sixties influence\, producing a sound affectionately referred to as "Dark Appalachian." What began in a small town has taken them all over the United States and Canada. The band released their album "The Hardest Thing" in 2018 under the direction of Grammy and Emmy nominated producer\, David Mayfield. In 2020\, TMVB released the EP "Something New" under the production of Jantzen Wray. In 2022\, TMVB released the EP "Breakdown" under the production of Matt Langston of EleventySeven and Rock Candy Recordings. TMVB's career has taken them as far as Canada and they have partnered with acts such as: Sarah Shook + the disarmers\, Jason Isbell\, Infamous Stringdusters\, Robert Randolph & the Family Band\, Black Lillies\, Indigo Girls\, Brent Cobb\, Donna & the Buffalo Lonesome Riverband and many more.
X-ALT-DESC;FMTTYPE=text/html:<div>\n<div style="text-align:var(--text-align)">\n<div>\n<div>\n<p>Hendersonville Theatre proudly presents The Maggie Valley Band as June&rsquo\;s intimate Hometown Sound concert. Hailing from the beautiful mountains of Maggie Valley\, The&nbsp\;<a href="http://www.themaggievalleyband.com/" style="box-sizing: border-box\; background-color: transparent\; transition: all 0.1s ease-in 0s\; text-decoration-line: none\; color: rgb(2\, 153\, 70)\; box-shadow: none\;">Maggie Valley Band</a>&nbsp\;brings sister-sister harmonies to a mix of indie and folk rock\, intertwined with a heavy sixties influence\, producing a sound affectionately referred to as &ldquo\;Dark Appalachian.&rdquo\; What began in a small town has taken them all over the United States and Canada. The band released their album &ldquo\;The Hardest Thing&rdquo\; in 2018 under the direction of Grammy and Emmy nominated producer\, David Mayfield. In 2020\, TMVB released the EP &ldquo\;Something New&rdquo\; under the production of Jantzen Wray. In 2022\, TMVB released the EP &ldquo\;Breakdown&rdquo\; under the production of Matt Langston of EleventySeven and Rock Candy Recordings. TMVB&rsquo\;s career has taken them as far as Canada and they have partnered with acts such as: Sarah Shook + the disarmers\, Jason Isbell\, Infamous Stringdusters\, Robert Randolph &amp\; the Family Band\, Black Lillies\, Indigo Girls\, Brent Cobb\, Donna &amp\; the Buffalo Lonesome Riverband and many more.</p>\n</div>\n</div>\n</div>\n</div>\n\n<div>\n<div style="text-align:var(--text-align)">\n<div style="text-align:initial">\n<div style="text-align:var(--text-align)">\n<div style="text-align:center">\n<div>&nbsp\;</div>\n</div>\n</div>\n</div>\n</div>\n</div>\n
LOCATION:The Hendersonville Theatre 229 South Washington St. Hendersonville\, NC 28739
UID:e.2975.5786
SEQUENCE:3
DTSTAMP:20260419T234835Z
URL:https://business.hendersoncountychamber.org/events/details/the-maggie-valley-band-5786
END:VEVENT

END:VCALENDAR
