BEGIN:VCALENDAR
VERSION:2.0
PRODID:-//ChamberMaster//Event Calendar 2.0//EN
METHOD:PUBLISH
X-PUBLISHED-TTL:P3D
REFRESH-INTERVAL:P3D
CALSCALE:GREGORIAN
BEGIN:VEVENT
DTSTART:20221001T190000Z
DTEND:20221001T203000Z
X-MICROSOFT-CDO-ALLDAYEVENT:FALSE
SUMMARY:THE MERCURY THEATRE OF THE AIR’S DRACULA
DESCRIPTION:ADAPTED BY ORSON WELLES FROM THE BRAM STOKER NOVEL\n\nAn adaptation of Bram Stoker's classic horror novel\, recounted by various characters in the first person\, was written by 23-year old Orson Welles with producer John Houseman.\n\nDracula became the premiere episode of The Mercury Theatre of the Air and is considered one of the most horrific and transcendent presentations of radio. It was originally broadcast on CBS Radio in 1938. This famous dramatic series   featuring adaptations of well-known novels\, plays\, and films   was originally produced\, directed\, written\, hosted\, and performed by Orson Welles\, with the Mercury Theatre Company. \n\nSATURDAY OCTOBER 1\, 2022  3:00PM AND 7:30 PM\n\nApproximate run time: 1 hour 20 minutes
X-ALT-DESC;FMTTYPE=text/html:<h2>ADAPTED BY ORSON WELLES&nbsp\;FROM THE BRAM STOKER NOVEL</h2>\n\n<p>An adaptation of Bram Stoker&rsquo\;s classic horror novel\, recounted by various characters in the first person\, was written by 23-year old Orson Welles with producer John Houseman.</p>\n\n<p>Dracula became the premiere episode of The Mercury Theatre of the Air and is considered one of the most horrific and transcendent presentations of radio. It was originally broadcast on CBS Radio in 1938. This famous dramatic series &mdash\; featuring adaptations of well-known novels\, plays\, and films &mdash\; was originally produced\, directed\, written\, hosted\, and performed by Orson Welles\, with the Mercury Theatre Company.&nbsp\;</p>\n\n<h3>SATURDAY OCTOBER 1\, 2022&nbsp\; 3:00PM AND 7:30 PM</h3>\n\n<p>Approximate run time: 1 hour 20 minutes&nbsp\;</p>\n
LOCATION:Hendersonville Theatre 229 S. Washington Street Hendersonville\, NC 28739
UID:e.2975.4571
SEQUENCE:3
DTSTAMP:20260422T221116Z
URL:https://business.hendersoncountychamber.org/events/details/the-mercury-theatre-of-the-air-s-dracula-4571
END:VEVENT

END:VCALENDAR
