BEGIN:VCALENDAR
VERSION:2.0
PRODID:-//ChamberMaster//Event Calendar 2.0//EN
METHOD:PUBLISH
X-PUBLISHED-TTL:P3D
REFRESH-INTERVAL:P3D
CALSCALE:GREGORIAN
BEGIN:VEVENT
DTSTART:20230324T140000Z
DTEND:20230324T160000Z
X-MICROSOFT-CDO-ALLDAYEVENT:FALSE
SUMMARY:The Power of the Inbox: Email Marketing as a Key to Grow Your Business
DESCRIPTION:The inbox remains the most direct method for marketing online and statistically outperforms every other medium by a landslide!\n\n\n\nThis session is a fresh overview of what email marketing is in 2023\, and the best practices on how to grow an engaged email list to drive more business.\n\n\n\nYou will gain a better understanding of: \n\n- Why your email list should be the "central component" of your digital marketing\n\n- Why email creates more sales and conversions than other mediums\n\n- What does successful email marketing look like?\n\n- How and where tp grow your email list\n\n- What types of emails to send to get the best results\n\n- What should you send?\n\n- Expanding your reach for every email you send\n\n- Understanding how connected email & social media are... how to work them together\n\n- Tips and Secrets to get your emails opened\, engaged\, and successful.\n\n- Special Chamber Discounts and Bonuses\n\n- Live Q&A \n\n\n\nPresenter Bio:\n\nPresenter Aaron Wesley Means is a communication specialist\, internet marketer\, and CEO of ACTIVATE Business Solutions based in Brevard\, NC. He has a BA in Communication from Arizona State University. \n\nACTIVATE is an award winning digital marketing company\, including "Constant Contact Solution Provider of the Year" in the Southeast. \n\n\n\nAaron and ACTIVATE have trained thousands of businesses through seminars\, webinars\, and conferences in the Chamber and SBC network\, while delivering a full suite of custom services and solutions for business and organizations of all shapes and sizes.
X-ALT-DESC;FMTTYPE=text/html:<p><font face="arial"><span style="font-size: 12px\;">The inbox remains the most direct method for marketing online and statistically outperforms every other medium by a landslide!<br />\n<br />\nThis session is a fresh overview of what email marketing is in 2023\, and the best practices on how to grow an engaged email list to drive more business.<br />\n<br />\n<u>You will gain a better understanding of:&nbsp\;</u><br />\n- Why your email list should be the &quot\;central component&quot\; of your digital marketing<br />\n- Why email creates more sales and conversions than other mediums<br />\n- What does successful email marketing look like?<br />\n- How and where tp grow your email list<br />\n- What types of emails to send to get the best results<br />\n- What should you send?<br />\n- Expanding your reach for every email you send<br />\n- Understanding how connected email &amp\; social media are... how to work them together<br />\n- Tips and Secrets to get your emails opened\, engaged\, and successful.<br />\n- Special Chamber Discounts and Bonuses<br />\n- Live Q&amp\;A&nbsp\;<br />\n<br />\nPresenter Bio:<br />\nPresenter Aaron Wesley Means is a communication specialist\, internet marketer\, and CEO of ACTIVATE Business Solutions based in Brevard\, NC. He has a BA in Communication from Arizona State University.&nbsp\;</span></font></p>\n\n<p><font face="arial"><span style="font-size: 12px\;">ACTIVATE is an award winning digital marketing company\, including &quot\;Constant Contact Solution Provider of the Year&quot\; in the Southeast.&nbsp\;<br />\n<br />\nAaron and ACTIVATE have trained thousands of businesses through seminars\, webinars\, and conferences in the Chamber and SBC network\, while delivering a full suite of custom services and solutions for business and organizations of all shapes and sizes.&nbsp\;</span></font></p>\n
LOCATION:The Chamber | 204 Kanuga Rd\, Hendersonville
UID:e.2975.5333
SEQUENCE:3
DTSTAMP:20260422T111810Z
URL:https://business.hendersoncountychamber.org/events/details/the-power-of-the-inbox-email-marketing-as-a-key-to-grow-your-business-5333
END:VEVENT

END:VCALENDAR
