BEGIN:VCALENDAR
VERSION:2.0
PRODID:-//ChamberMaster//Event Calendar 2.0//EN
METHOD:PUBLISH
X-PUBLISHED-TTL:P3D
REFRESH-INTERVAL:P3D
CALSCALE:GREGORIAN
BEGIN:VEVENT
DTSTART:20230226T003000Z
DTEND:20230226T023000Z
X-MICROSOFT-CDO-ALLDAYEVENT:FALSE
SUMMARY:The Tribe Jazz Orchestra
DESCRIPTION:Hendersonville Theatre is proud to bring The Tribe Jazz Orchestra to Western North Carolina. The Tribe Jazz Orchestra is an ensemble of musicians led by vocalist Lenora Zenzalai Helm with a unique approach to the music of the big band tradition. With a diverse amalgam of the top men and women performers in Jazz today\, the instrumentation features a combination of jazz orchestra and modern chamber ensemble to bring a swinging and soulful concert full of groove and excitement covering many styles.\n\n \n\nThe members of the Tribe have performed together in various configurations and have appeared in noted concert halls and international music festivals in the United States\, Europe\, Asia\, Africa and South America. The musicians have each garnered an international audience of followers and critical and professional acclaim for the last few decades.\n\n \n\nLenora has six previous commercial recordings and has performed with some of the biggest names in Jazz leading her groups in renowned jazz festivals and venues worldwide\, including Jazz Standard\, NYC\, Jazz at Lincoln Center's Dizzy Club Coca Cola Women's Jazz Festival\, Schomburg Center's Women in Jazz Festival\, JVC Jazz Festivals\, Clifford Brown Jazz Festival\, Cape Town Jazzathon\, South Africa\, Fiji Jazz & Blues Festival\, NCCU Jazz Festival\, and the Art of Cool Jazz Festival\, Durham\, NC. Her creative practice includes being a performing musician while educating emerging artists in jazz as the Director of the NCCU Vocal Jazz Ensemble and Assistant Professor of Vocal Jazz at North Carolina Central University\, and being sought after internationally for workshops\, clinics and master classes. She plays a leadership role in creating communities of practice for teaching artists and producing forums where music performances and edutainment events serve families in local and regional communities. A former U.S. Jazz Ambassador\, and a two-time Fulbright Senior Music Specialist\, she earned dozens of music and leadership-in-music awards and international accolades\, including being a MacDowell Composer Fellow and the first Black woman vocal musician selected as a Chamber Music America/New Works Doris Duke Composer. Their CD release\, For the Love of Big Band\, launched March 9\, 2020\, received critical acclaim\, and reached the JazzWeek Top 50 list of recordings for 2020. The next recording release will launch Spring 2023\, Journeywoman\, a recording of all original compositions. Learn more at www.LenoraHelm.com.
X-ALT-DESC;FMTTYPE=text/html:<div>Hendersonville Theatre is proud to bring The Tribe Jazz Orchestra to Western North Carolina. The Tribe Jazz Orchestra is an ensemble of musicians led by vocalist Lenora Zenzalai Helm with a unique approach to the music of the big band tradition. With a diverse amalgam of the top men and women performers in Jazz today\, the instrumentation features a combination of jazz orchestra and modern chamber ensemble to bring a swinging and soulful concert full of groove and excitement covering many styles.<br />\n&nbsp\;</div>\n\n<div>The members of the Tribe have performed together in various configurations and have appeared in noted concert halls and international music festivals in the United States\, Europe\, Asia\, Africa and South America. The musicians have each garnered an international audience of followers and critical and professional acclaim for the last few decades.<br />\n&nbsp\;</div>\n\n<div>Lenora has six previous commercial recordings and has performed with some of the biggest names in Jazz leading her groups in renowned jazz festivals and venues worldwide\, including Jazz Standard\, NYC\, Jazz at Lincoln Center&rsquo\;s Dizzy Club Coca Cola Women&rsquo\;s Jazz Festival\, Schomburg Center&#39\;s Women in Jazz Festival\, JVC Jazz Festivals\, Clifford Brown Jazz Festival\, Cape Town Jazzathon\, South Africa\, Fiji Jazz &amp\; Blues Festival\, NCCU Jazz Festival\, and the Art of Cool Jazz Festival\, Durham\, NC. Her creative practice includes being a performing musician while educating emerging artists in jazz as the Director of the NCCU Vocal Jazz Ensemble and Assistant Professor of Vocal Jazz at North Carolina Central University\, and being sought after internationally for workshops\, clinics and master classes. She plays a leadership role in creating communities of practice for teaching artists and producing forums where music performances and edutainment events serve families in local and regional communities. A former U.S. Jazz Ambassador\, and a two-time Fulbright Senior Music Specialist\, she earned dozens of music and leadership-in-music awards and international accolades\, including being a MacDowell Composer Fellow and the first Black woman vocal musician selected as a Chamber Music America/New Works Doris Duke Composer. Their CD release\, For the Love of Big Band\, launched March 9\, 2020\, received critical acclaim\, and reached the JazzWeek Top 50 list of recordings for 2020. The next recording release will launch Spring 2023\, Journeywoman\, a recording of all original compositions. Learn more at&nbsp\;<a class="x1i10hfl xjbqb8w x6umtig x1b1mbwd xaqea5y xav7gou x9f619 x1ypdohk xt0psk2 xe8uvvx xdj266r x11i5rnm xat24cr x1mh8g0r xexx8yu x4uap5 x18d9i69 xkhd6sd x16tdsg8 x1hl2dhg xggy1nq x1a2a7pz xt0b8zv x1fey0fg" href="http://www.lenorahelm.com/?fbclid=IwAR0hXXfQLVz8PCfkivFhWa5gs52w4J7_nduacoUTd9Mc94kA63A21QvVs_Y" rel="nofollow noopener" style="color: var(--blue-link)\; cursor: pointer\; text-decoration-line: none\; margin: 0px\; text-align: inherit\; padding: 0px\; outline: none\; border-width: 0px\; border-style: initial\; border-color: initial\; -webkit-tap-highlight-color: transparent\; box-sizing: border-box\; list-style: none\; touch-action: manipulation\; background-color: transparent\; display: inline\; font-family: inherit\;" tabindex="0" target="_blank">www.LenoraHelm.com.</a>&nbsp\;</div>\n
LOCATION:Hendersonville Theatre 229 S. Washington Street Hendersonville\, NC 28739
UID:e.2975.5322
SEQUENCE:3
DTSTAMP:20260422T123736Z
URL:https://business.hendersoncountychamber.org/events/details/the-tribe-jazz-orchestra-5322
END:VEVENT

END:VCALENDAR
