BEGIN:VCALENDAR
VERSION:2.0
PRODID:-//ChamberMaster//Event Calendar 2.0//EN
METHOD:PUBLISH
X-PUBLISHED-TTL:P3D
REFRESH-INTERVAL:P3D
CALSCALE:GREGORIAN
BEGIN:VEVENT
DTSTART:20231128T170000Z
DTEND:20231128T230000Z
X-MICROSOFT-CDO-ALLDAYEVENT:FALSE
SUMMARY:Thrive's Clubhouse Open House
DESCRIPTION:You're invited to our Clubhouse open house! Join us as we celebrate the 40th anniversary of the Clubhouse this Giving Tuesday!\n\nStop in at the Clubhouse on November 28th anytime between 12PM and 6PM to tour the Clubhouse\, meet staff and members\, and learn more about what we do.\n\nWe can't wait to see you there!
X-ALT-DESC;FMTTYPE=text/html:<p>You&rsquo\;re invited to our&nbsp\;<strong>Clubhouse open house</strong>! Join us as we celebrate the 40th anniversary of the Clubhouse this Giving Tuesday!</p>\n\n<p>Stop in at the Clubhouse on<strong>&nbsp\;November 28th</strong>&nbsp\;anytime<strong>&nbsp\;between 12PM and 6PM&nbsp\;</strong>to tour the Clubhouse\, meet staff and members\, and learn more about what we do.</p>\n\n<p>We can&rsquo\;t wait to see you there!</p>\n
LOCATION:2110 Woodridge Dr\, Hendersonville\, NC 28739
UID:e.2975.6206
SEQUENCE:3
DTSTAMP:20260419T130817Z
URL:https://business.hendersoncountychamber.org/events/details/thrive-s-clubhouse-open-house-6206
END:VEVENT

END:VCALENDAR
