BEGIN:VCALENDAR
VERSION:2.0
PRODID:-//ChamberMaster//Event Calendar 2.0//EN
METHOD:PUBLISH
X-PUBLISHED-TTL:P3D
REFRESH-INTERVAL:P3D
CALSCALE:GREGORIAN
BEGIN:VEVENT
DTSTART:20230923T120000Z
DTEND:20230923T141500Z
X-MICROSOFT-CDO-ALLDAYEVENT:FALSE
SUMMARY:TreeTops 8.5 Mile\, 5k and 1 Mile Trail Races
DESCRIPTION:Join us Saturday\, September 23\, 2023 for the Inaugural TreeTops Trail Races in DuPont State Recreational Forest near Brevard\, North Carolina! \n\nThe races offer a unique opportunity to explore the spectacular 10\,000 acres of rolling hills and towering trees that make up this beautiful forest. Run or walk in the one mile or 5k run/walk events\, or take on the 8.5 mile challenging trail race - but beware! With nearly 1\,000 feet of elevation gain it's no walk in the park!\n\nCelebrate your journey through nature with a super unique succulent plant for all participants and a finisher medal for those who tackle the 8.5 mile course. Join us at the Dupont Forest Festival afterwards from 10am - 3pm to visit with vendors\, hike\, yoga\, bike\, hunt waterfalls and learn outdoor recreation tips to last you a lifetime. Admission to the festival is FREE!\n\nThe TreeTops Trail Races are not just any ordinary event - they're an exclusive experience only available within Dupont State Forest! So don't miss out on this tree-mendous event and join us for an unforgettable journey through DuPont State Forest - roots down\, branches up!
X-ALT-DESC;FMTTYPE=text/html:<div>\n<p style="text-align:center"><span style="background-color:transparent\; color:rgb(0\, 0\, 0)\; font-size:24px">Join us Saturday\, September 23\, 2023 for the Inaugural TreeTops Trail Races in DuPont State Recreational Forest near Brevard\, North Carolina! </span></p>\n\n<p><span style="background-color:transparent\; color:rgb(0\, 0\, 0)\; font-size:18px">The races offer a unique opportunity to explore the spectacular 10\,000 acres of rolling hills and towering trees that make up this beautiful forest. Run or walk in the one mile or 5k run/walk events\, or take on the 8.5 mile challenging trail race - but beware! With nearly 1\,000 feet of elevation gain it&rsquo\;s no walk in the park!</span></p>\n\n<p><span style="background-color:transparent\; color:rgb(0\, 0\, 0)\; font-size:18px">Celebrate your journey through nature with a super unique succulent plant for all participants and a finisher medal for those who tackle the 8.5 mile course. Join us at the Dupont Forest Festival afterwards from 10am - 3pm to visit with vendors\, hike\, yoga\, bike\, hunt waterfalls and learn outdoor recreation tips to last you a lifetime. Admission to the festival is FREE!</span></p>\n\n<p><span style="background-color:transparent\; color:rgb(0\, 0\, 0)\; font-size:18px">The TreeTops Trail Races are not just any ordinary event - they&#39\;re an exclusive experience only available within Dupont State Forest! So don&#39\;t miss out on this tree-mendous event and join us for an unforgettable journey through DuPont State Forest - roots down\, branches up!</span></p>\n</div>\n
LOCATION:DuPont State Forest - Guion Farm 3045 Sky Valley Rd Hendersonville\, NC 28739
UID:e.2975.5845
SEQUENCE:3
DTSTAMP:20260419T163604Z
URL:https://business.hendersoncountychamber.org/events/details/treetops-8-5-mile-5k-and-1-mile-trail-races-5845
END:VEVENT

END:VCALENDAR
