BEGIN:VCALENDAR
VERSION:2.0
PRODID:-//ChamberMaster//Event Calendar 2.0//EN
METHOD:PUBLISH
X-PUBLISHED-TTL:P3D
REFRESH-INTERVAL:P3D
CALSCALE:GREGORIAN
BEGIN:VEVENT
DTSTART:20221022T140000Z
DTEND:20221022T160000Z
X-MICROSOFT-CDO-ALLDAYEVENT:FALSE
SUMMARY:Trick or Trail 5K
DESCRIPTION:Runners at the 8th Annual Trick or Trail 5k presented by Hunter Subaru get to experience the Halloween-themed race at a new location this year   in the heart of Hendersonville\, NC! Due to construction scheduled in the fall at Guion Farms in Dupont\, the race is being relocated this year. It will start and finish in the Historic 7th Avenue District on Maple Street at the Train Depot where the vibrant Fall Fest is taking place at the Farmers' Market! The Trick or Trail is a fall\, family favorite event with costumes\, decorations\, and lots of great candy\, snacks\, and food!\n\nAfter the race runners will enjoy the bustling Fall Festival and food\, drinks and vendors at the Farmers' Market. Bring some cash!\n\nCostumes are highly encouraged\, and prizes will be given out for the best ones!
X-ALT-DESC;FMTTYPE=text/html:<div>\n<p><span style="font-size:18px">Runners at the 8th Annual Trick or Trail 5k presented by Hunter Subaru get to experience the Halloween-themed race at a new location this year &mdash\; in the heart of Hendersonville\, NC! Due to construction scheduled in the fall at Guion Farms in Dupont\, the race is being relocated this year. It will start and finish in the Historic 7th Avenue District on Maple Street at the Train Depot where the vibrant Fall Fest is taking place at the Farmers&#39\; Market! The Trick or Trail is a fall\, family favorite event with costumes\, decorations\, and lots of great candy\, snacks\, and food!</span></p>\n\n<p><span style="font-size:18px">After the race runners will enjoy the bustling Fall Festival and food\, drinks and vendors at the Farmers&#39\; Market. Bring some cash!</span></p>\n\n<p><strong style="font-size:24px"><span style="color:rgb(243\, 121\, 52)">Costumes are highly encouraged</span></strong><span style="color:rgb(243\, 121\, 52)\; font-size:24px">\, and prizes will be given out for the best ones!</span></p>\n</div>\n
LOCATION:Nelon's Feed\, 519 Maple Street\, Hendersonville\, NC 28792
UID:e.2975.4542
SEQUENCE:3
DTSTAMP:20260422T202703Z
URL:https://business.hendersoncountychamber.org/events/details/trick-or-trail-5k-10-22-2022-4542
END:VEVENT

END:VCALENDAR
