BEGIN:VCALENDAR
VERSION:2.0
PRODID:-//ChamberMaster//Event Calendar 2.0//EN
METHOD:PUBLISH
X-PUBLISHED-TTL:P3D
REFRESH-INTERVAL:P3D
CALSCALE:GREGORIAN
BEGIN:VEVENT
DTSTART:20231021T140000Z
DTEND:20231021T160000Z
X-MICROSOFT-CDO-ALLDAYEVENT:FALSE
SUMMARY:Trick or Trail 5k & Spooky Sprint 1 Mile
DESCRIPTION:Get ready to have some fun at the 9th Annual Trick or Trail 5k & Spooky Sprint 1 Mile\, presented by Hunter Subaru! This Halloween-themed race will bring runners back to the heart of Hendersonville\, NC\, where they'll start and finish in the Historic 7th Avenue District.\n\nBut that's not all! The vibrant Fall Festival will be taking place at the Farmers' Market\, so you can expect a spooktacular atmosphere with costumes\, decorations\, and lots of great candy\, snacks\, and food!\n\nThis family favorite event promises a festive fusion of fitness and fall fun that you won't want to miss. And\, after the race\, you can stroll over to the bustling Fall Festival for even more food\, drinks\, and vendors at the Farmers' Market. So\, come prepared to spook\, sprint\, and snack your way through this ghoulishly good time! (Don't forget your cash for all the goodies!)\n\n \n\nCostumes are highly encouraged\, and prizes will be given out for the best ones!
X-ALT-DESC;FMTTYPE=text/html:<p style="text-align:center"><span style="font-size:18px">Get ready to have some fun at the 9th Annual Trick or Trail 5k &amp\; Spooky Sprint 1 Mile\, presented by Hunter Subaru! This Halloween-themed race will bring runners back to the heart of Hendersonville\, NC\, where they&rsquo\;ll start and finish in the Historic 7th Avenue District.</span></p>\n\n<p style="text-align:center"><span style="font-size:18px">But that&rsquo\;s not all! The vibrant Fall Festival will be taking place at the Farmers&rsquo\; Market\, so you can expect a spooktacular atmosphere with costumes\, decorations\, and lots of great candy\, snacks\, and food!</span></p>\n\n<p style="text-align:center"><span style="font-size:18px">This family favorite event promises a festive fusion of fitness and fall fun that you won&rsquo\;t want to miss. And\, after the race\, you can stroll over to the bustling Fall Festival for even more food\, drinks\, and vendors at the Farmers&rsquo\; Market. So\, come prepared to spook\, sprint\, and snack your way through this ghoulishly good time! (Don&rsquo\;t forget your cash for all the goodies!)</span></p>\n\n<p style="text-align:center">&nbsp\;</p>\n\n<p style="text-align:center"><span style="font-size:24px"><strong><span style="color:rgb(243\, 121\, 52)">Costumes are highly encouraged</span></strong><span style="color:rgb(243\, 121\, 52)">\, and prizes will be given out for the best ones!</span></span></p>\n
LOCATION:Nelon's Feed 519 Maple Street Hendersonville\, NC 28792
UID:e.2975.5988
SEQUENCE:3
DTSTAMP:20260419T144349Z
URL:https://business.hendersoncountychamber.org/events/details/trick-or-trail-5k-spooky-sprint-1-mile-5988
END:VEVENT

END:VCALENDAR
