BEGIN:VCALENDAR
VERSION:2.0
PRODID:-//ChamberMaster//Event Calendar 2.0//EN
METHOD:PUBLISH
X-PUBLISHED-TTL:P3D
REFRESH-INTERVAL:P3D
CALSCALE:GREGORIAN
BEGIN:VEVENT
DTSTART:20230331T233000Z
DTEND:20230401T013000Z
X-MICROSOFT-CDO-ALLDAYEVENT:FALSE
SUMMARY:Trillium an Appalachian Drama by Karen Ruetz
DESCRIPTION:By: Karen Ruetz\n\nDirector: Lois Hade\n\n \n\nWritten by emerging playwright Karen Ruetz from Georgia\, Trillium is a tale of magic\, love\, jealousy and revenge set in the Appalachian Mountains. Granny always warned Maeve not to interfere with love\, but when Sarah\, an old friend\, comes to her for a love potion\, Maeve reluctantly agrees to help her. Hoping to heal past wounds of a broken friendship\, Maeve unknowingly opens Pandora's box\, releasing unfortunate events that will change her life.\n\n \n\nApproximate Run Time: 90 minutes\n\nRating: PG due to adult situations and mild language.\n\n \n\nThis project is supported by the North Carolina Arts Council\, a division of the Department of Natural and Cultural Resources\, the Arts Council of Henderson County and the City of Hendersonville.
X-ALT-DESC;FMTTYPE=text/html:<div>By: Karen Ruetz</div>\n\n<div>Director: Lois Hade<br />\n&nbsp\;</div>\n\n<div>Written by emerging playwright Karen Ruetz from Georgia\, Trillium is a tale of magic\, love\, jealousy and revenge set in the Appalachian Mountains. Granny always warned Maeve not to interfere with love\, but when Sarah\, an old friend\, comes to her for a love potion\, Maeve reluctantly agrees to help her. Hoping to heal past wounds of a broken friendship\, Maeve unknowingly opens Pandora&rsquo\;s box\, releasing unfortunate events that will change her life.<br />\n&nbsp\;</div>\n\n<div>Approximate Run Time: 90 minutes<br />\nRating: PG due to adult situations and mild language.<br />\n&nbsp\;</div>\n\n<div>This project is supported by the North Carolina Arts Council\, a division of the Department of Natural and Cultural Resources\, the Arts Council of Henderson County and the City of Hendersonville.</div>\n
LOCATION:Hendersonville Theatre 229 S. Washington Street Hendersonville\, NC 28739
UID:e.2975.5345
SEQUENCE:3
DTSTAMP:20260422T111420Z
URL:https://business.hendersoncountychamber.org/events/details/trillium-an-appalachian-drama-by-karen-ruetz-5345
END:VEVENT

END:VCALENDAR
