BEGIN:VCALENDAR
VERSION:2.0
PRODID:-//ChamberMaster//Event Calendar 2.0//EN
METHOD:PUBLISH
X-PUBLISHED-TTL:P3D
REFRESH-INTERVAL:P3D
CALSCALE:GREGORIAN
BEGIN:VEVENT
DTSTART:20230318T233000Z
DTEND:20230319T013000Z
X-MICROSOFT-CDO-ALLDAYEVENT:FALSE
SUMMARY:Tuatha Dea
DESCRIPTION:Marc Gunn's Irish and Celtic PodCast rates Tuatha Dea as one of the top 10 Celtic bands of 2022!\n\n \n\nHendersonville Theatre is proud to bring Tuatha Dea to Western North Carolina! Rated as one of the top 10 Celtic bands in the United States\, Tuatha Dea is a progressive Americana band with a Rock edge\, a Celtic-Appalachian influence and a fearless attitude for pushing the boundaries of modern roots music. Their music thrives on a perpetual energy backed by expansive vocal ranges\, steady\, driving percussion\, electric instrumentation and the melodic sounds of acoustic instruments like fiddle\, guitar\, penny whistle\, bagpipes and even didgeridoo.\n\n \n\nDubbed "The Eclectic Partridge Family In Kilts And Corsets" And "The Appalachian Fae" Tuatha Dae has appeared at The Montauk Music Festival\, Floydfest\, Bristol Rhythm And Roots\, Dragoncon\, Comicpalooza\, Anachrocon\, and many highland games and celtic music festivals.\n\n \n\nTuatha Dea has performed on stage with and accompanied Paul Simon\, Alto Reed\, and James Mckinney. The band hails from Gatlinburg\, TN. Please check out Tuatha Dea's website at www.tuathadea.com.\n\n \n\nTuatha Dea is an Old Irish phrase adopted from the Celtic mythology of the Tuatha de Danaan whose literary history originates in Ireland and Great Britain. The name "Tuatha Dea" literally translates into "Children of The Gods". The band's Celtic influence stems directly from this historical clan which lived and ruled for a period in ancient Ireland and who were later destined to become the stuff of legend and basis of Celtic mythology. Those who dwelt beneath the burrows. The Children of The Gods.
X-ALT-DESC;FMTTYPE=text/html:<div>Marc Gunn&rsquo\;s Irish and Celtic PodCast rates Tuatha Dea as one of the top 10 Celtic bands of 2022!<br />\n&nbsp\;</div>\n\n<div>Hendersonville Theatre is proud to bring Tuatha Dea to Western North Carolina! Rated as one of the top 10 Celtic bands in the United States\, Tuatha Dea is a progressive Americana band with a Rock edge\, a Celtic-Appalachian influence and a fearless attitude for pushing the boundaries of modern roots music. Their music thrives on a perpetual energy backed by expansive vocal ranges\, steady\, driving percussion\, electric instrumentation and the melodic sounds of acoustic instruments like fiddle\, guitar\, penny whistle\, bagpipes and even didgeridoo.<br />\n&nbsp\;</div>\n\n<div>Dubbed &ldquo\;The Eclectic Partridge Family In Kilts And Corsets&rdquo\; And &ldquo\;The Appalachian Fae&rdquo\; Tuatha Dae has appeared at The Montauk Music Festival\, Floydfest\, Bristol Rhythm And Roots\, Dragoncon\, Comicpalooza\, Anachrocon\, and many highland games and celtic music festivals.<br />\n&nbsp\;</div>\n\n<div>Tuatha Dea has performed on stage with and accompanied Paul Simon\, Alto Reed\, and James Mckinney. The band hails from Gatlinburg\, TN. Please check out Tuatha Dea&rsquo\;s website at&nbsp\;<a class="x1i10hfl xjbqb8w x6umtig x1b1mbwd xaqea5y xav7gou x9f619 x1ypdohk xt0psk2 xe8uvvx xdj266r x11i5rnm xat24cr x1mh8g0r xexx8yu x4uap5 x18d9i69 xkhd6sd x16tdsg8 x1hl2dhg xggy1nq x1a2a7pz xt0b8zv x1fey0fg" href="http://www.tuathadea.com/?fbclid=IwAR3X4d9Aa6P_-NMdKTNvU11x2MNUBz3Mg5yT1ZT6MD2LN9igZDyq11pP1vM" rel="nofollow noopener" style="color: var(--blue-link)\; cursor: pointer\; text-decoration-line: none\; margin: 0px\; text-align: inherit\; padding: 0px\; outline: none\; border-width: 0px\; border-style: initial\; border-color: initial\; -webkit-tap-highlight-color: transparent\; box-sizing: border-box\; list-style: none\; touch-action: manipulation\; background-color: transparent\; display: inline\; font-family: inherit\;" tabindex="0" target="_blank">www.tuathadea.com.</a><br />\n&nbsp\;</div>\n\n<div>Tuatha Dea is an Old Irish phrase adopted from the Celtic mythology of the Tuatha de Danaan whose literary history originates in Ireland and Great Britain. The name &ldquo\;Tuatha Dea&rdquo\; literally translates into &ldquo\;Children of The Gods&rdquo\;. The band&rsquo\;s Celtic influence stems directly from this historical clan which lived and ruled for a period in ancient Ireland and who were later destined to become the stuff of legend and basis of Celtic mythology. Those who dwelt beneath the burrows. The Children of The Gods.&nbsp\;</div>\n
LOCATION:Hendersonville Theatre 229 S. Washington Street Hendersonville\, NC 28739
UID:e.2975.5324
SEQUENCE:3
DTSTAMP:20260422T105807Z
URL:https://business.hendersoncountychamber.org/events/details/tuatha-dea-5324
END:VEVENT

END:VCALENDAR
