BEGIN:VCALENDAR
VERSION:2.0
PRODID:-//ChamberMaster//Event Calendar 2.0//EN
METHOD:PUBLISH
X-PUBLISHED-TTL:P3D
REFRESH-INTERVAL:P3D
CALSCALE:GREGORIAN
BEGIN:VEVENT
DTSTART:20221203T133000Z
DTEND:20221203T150000Z
X-MICROSOFT-CDO-ALLDAYEVENT:FALSE
SUMMARY:Ugly Sweater Run
DESCRIPTION:Don your ugliest sweater\, lace up your running shoes\, and join us at the Riveter for the second installment of this festive 5k/10k event! The Riveter will be serving up plenty of post-race activities (and beverages) again this year\, so it's sure to become one of your favorite holiday traditions!
X-ALT-DESC;FMTTYPE=text/html:Don your ugliest sweater\, lace up your running shoes\, and join us at the Riveter for the second installment of this festive 5k/10k event! The Riveter will be serving up plenty of post-race activities (and beverages) again this year\, so it&#39\;s sure to become one of your favorite holiday traditions!
LOCATION:The Riveter
UID:e.2975.3634
SEQUENCE:3
DTSTAMP:20260422T164152Z
URL:https://business.hendersoncountychamber.org/events/details/ugly-sweater-run-12-03-2022-3634
END:VEVENT

END:VCALENDAR
